Workbook

Sheet Suvestinė
B1: 2018
B2: Rodiklis | C2: Reikšmė
B3: Premjerų skaičius | C3: 289
B4: Lietuviškų filmų premjerų skaičius | C4: 22
B5: Bendras filmų skaičius | C5: 356
B6: Bendros pajamos | C6: 22406025
B7: Bendras žiūrovų skaičius | C7: 4264574
B9: Filmų dalis rinkoje, %
B10: Kategorija | C10: Pajamos | D10: Žiūrovų skaičius | E10: Pajamos % | F10: Žiūrovų skaičius % | G10: Filmų skaičius
B11: Lietuva | C11: 6198905.2 | D11: 1166502 | E11: 27.666 | F11: 27.353 | G11: 27
B12: Europa | C12: 3607363.2 | D12: 719353 | E12: 16.1 | F12: 16.868 | G12: 150
B13: JAV | C13: 12216198 | D13: 2293041 | E13: 54.522 | F13: 53.77 | G13: 159
B14: Kita | C14: 383558.47 | D14: 85678 | E14: 1.712 | F14: 2.009 | G14: 20
B15: Total | C15: =SUBTOTAL(109,Table1[Pajamos]) -> 22406025 | D15: =SUBTOTAL(109,Table1[Žiūrovų skaičius]) -> 4264574 | E15: =SUBTOTAL(109,Table1[Pajamos %]) -> 100 | F15: =SUBTOTAL(109,Table1[Žiūrovų skaičius %]) -> 100 | G15: =SUBTOTAL(109,Table1[Filmų skaičius]) -> 356
B47: Pasiskirstymas pagal platintojus
A48: Eil. nr | B48: Platintojas | C48: Pajamos | D48: Žiūrovų skaičius | E48: Filmų skaičius | F48: Pajamos % | G48: Žiūrovų skaičius %
A49: =IF(B49<>"",ROWS($B$49:B49),"") -> 1 | B49: ACME Film | C49: 3063702 | D49: 598744 | E49: 59 | F49: 13.674 | G49: 14.04
A50: =IF(B50<>"",ROWS($B$49:B50),"") -> 2 | B50: ACME Film / WB | C50: 2633917.2 | D50: 468870 | E50: 15 | F50: 11.755 | G50: 10.995
A51: =IF(B51<>"",ROWS($B$49:B51),"") -> 3 | B51: NCG Distribution / Universal Pictures International | C51: 2589340.1 | D51: 477938 | E51: 24 | F51: 11.556 | G51: 11.207
A52: =IF(B52<>"",ROWS($B$49:B52),"") -> 4 | B52: Vabalo filmai | C52: 2298555 | D52: 412661 | E52: 6 | F52: 10.259 | G52: 9.676
A53: =IF(B53<>"",ROWS($B$49:B53),"") -> 5 | B53: Theatrical Film Distribution / 20th Century Fox | C53: 2253291.9 | D53: 404717 | E53: 16 | F53: 10.057 | G53: 9.49
A54: =IF(B54<>"",ROWS($B$49:B54),"") -> 6 | B54: ACME Film / SONY | C54: 2085162.4 | D54: 400059 | E54: 16 | F54: 9.306 | G54: 9.381
A55: =IF(B55<>"",ROWS($B$49:B55),"") -> 7 | B55: Theatrical Film Distribution / WDSMPI | C55: 1595454.2 | D55: 305854 | E55: 14 | F55: 7.121 | G55: 7.172
A56: =IF(B56<>"",ROWS($B$49:B56),"") -> 8 | B56: Garsų pasaulio įrašai | C56: 1123110 | D56: 241809 | E56: 33 | F56: 5.013 | G56: 5.67
A57: =IF(B57<>"",ROWS($B$49:B57),"") -> 9 | B57: Theatrical Film Distribution | C57: 613398.43 | D57: 120222 | E57: 30 | F57: 2.738 | G57: 2.819
A58: =IF(B58<>"",ROWS($B$49:B58),"") -> 10 | B58: Singing fish | C58: 595681.6 | D58: 107770 | E58: 1 | F58: 2.659 | G58: 2.527
A59: =IF(B59<>"",ROWS($B$49:B59),"") -> 11 | B59: Kino Gamyba | C59: 446993 | D59: 85148 | E59: 1 | F59: 1.995 | G59: 1.997
A60: =IF(B60<>"",ROWS($B$49:B60),"") -> 12 | B60: Best Film | C60: 442249.23 | D60: 90504 | E60: 18 | F60: 1.974 | G60: 2.122
... A86: =IF(B86<>"",ROWS($B$49:B86),"") -> 38 | B86: CineMark | C86: 1268 | D86: 507 | E86: 1 | F86: 0.006 | G86: 0.012
A87: Total | C87: =SUBTOTAL(109,Table18[Pajamos]) -> 22406025 | D87: =SUBTOTAL(109,Table18[Žiūrovų skaičius]) -> 4264574 | E87: =SUBTOTAL(109,Table18[Filmų skaičius]) -> 356 | F87: =SUBTOTAL(109,Table18[Pajamos %]) -> 100.003 | G87: =SUBTOTAL(109,Table18[Žiūrovų skaičius %]) -> 99.999
A89: LT TOP
A90: Eil. Nr. | B90: Filmo pavadinimas | C90: Pajamos | D90: Žiūrovų skaičius | E90: Premjeros data | F90: Platintojas
A91: 1 | B91: Tarp pilkų debesų | C91: 1295396 | D91: 240880 | E91: 43385 | F91: ACME Film
A92: 2 | B92: Klasės susitikimas: berniukai sugrįžta! | C92: 936798 | D92: 171672 | E92: 43098 | F92: Vabalo filmai
A93: 3 | B93: Lietuviški svingeriai | C93: 645911 | D93: 111943 | E93: 43399 | F93: Vabalo filmai
A94: 4 | B94: Moterys meluoja geriau. Robertėlis | C94: 595681.6 | D94: 107770 | E94: 43315 | F94: Singing fish
A95: 5 | B95: Pelėdų kalnas | C95: 446993 | D95: 85148 | E95: 43147 | F95: Kino Gamyba
A96: 6 | B96: Melagiai | C96: 413600 | D96: 75129 | E96: 43413 | F96: Film Jam
A97: 7 | B97: Grąžinti nepriklausomybę | C97: 380648.58 | D97: 75456 | E97: 43119 | F97: Olegas ir storas
A98: 8 | B98: Tarp mūsų, mergaičių | C98: 279880 | D98: 47032 | E98: 43462 | F98: Vabalo filmai
A99: 9 | B99: Sengirė | C99: 258162.97 | D99: 62441 | E99: 43189 | F99: VšĮ Sengirė
A100: 10 | B100: Širdys | C100: 241704.67 | D100: 47840 | E100: 43427 | F100: Dublis LT

Sheet Platintojų pasiskirstymas
A1: Platintojas | B1: Filmo pavadinimas | C1: Pajamos | D1: Žiūrovų skaičius | E1: Premjeros data
A2: ACME Film | B2: Tarp pilkų debesų (Ashes in the Snow) | C2: 1295396 | D2: 240880 | E2: 43385
B3: Didysis kačių pabėgimas (Cats) | C3: 107648.67 | D3: 23814 | E3: 43378
B4: Dagas iš akmens amžiaus (Early Man) | C4: 97649.02 | D4: 22404 | E4: 43140
B5: Nedidelė paslauga (A Simple Favor) | C5: 93499.67 | D5: 17492 | E5: 43364
B6: Kol dar neatėjo audra (Adrift ) | C6: 91805.21 | D6: 17517 | E6: 43252
B7: Slaptasis agentas Maksas (Show Dogs) | C7: 88161.28 | D7: 19756 | E7: 43280
B8: Šnipas, kuris mane išdūrė (Spy Who Dumped Me) | C8: 64679.98 | D8: 11709 | E8: 43322
B9: Lino: nuotykiai katino kailyje (Lino) | C9: 61212.46 | D9: 14394 | E9: 43203
B10: Teris ir užburta Aušros karalystė (Here comes the Grump) | C10: 60747.09 | D10: 14514 | E10: 43238
B11: Ledas (Лёд) | C11: 57373.03 | D11: 10426 | E11: 43147
B12: Princesė ir Drakonas (Princess in Wonderland (Princess and the Dragon)) | C12: 53210.06 | D12: 12015 | E12: 43357
B13: Slaptas keleivis (Commuter ) | C13: 50910.56 | D13: 9662 | E13: 43112
B14: Visi pasaulio pinigai (All the Money in the World) | C14: 47331.91 | D14: 8555 | E14: 43105
... B60: Mano mažasis ponis. Filmas (My Little Pony) | C60: 27 | D60: 9 | E60: 43014
A61: ACME Film Total | B61: =COUNTA(B2:B60) -> 59 | C61: 3063702 | D61: 598744
A62: ACME Film / WB | B62: Taip gimė žvaigždė (Star ir Born) | C62: 553346.12 | D62: 96024 | E62: 43378
B63: Vienuolė (The Nun) | C63: 354002.56 | D63: 60419 | E63: 43350
B64: Mažoji pėda (Smallfoot) | C64: 302239.65 | D64: 65902 | E64: 43392
B65: Fantastiniai gyvūnai: Grindelvaldo piktadarystės (Fantastic Beasts: Crimes of Grindelwald) | C65: 285919.53 | D65: 47658 | E65: 43420
B66: Oazė: žaidimas prasideda (Ready Player One) | C66: 173213.86 | D66: 29353 | E66: 43189
B67: Oušeno 8 (Ocean's Eight) | C67: 172169.84 | D67: 32417 | E67: 43266
B68: Kapų plėšikė Lara Kroft (Tomb Raider) | C68: 171315.88 | D68: 28369 | E68: 43175
B69: Megalodonas: Grėsmė iš gelmių (Meg) | C69: 161946.39 | D69: 27707 | E69: 43336
B70: Akvamenas (Aquaman) | C70: 157795.87 | D70: 25206 | E70: 43455
B71: Žaidimų vakaras (Game Night) | C71: 104935.72 | D71: 20293 | E71: 43154
B72: Papuolei! (Tag) | C72: 70653.39 | D72: 12485 | E72: 43280
B73: Griaunantys viską (Rampage) | C73: 70231.4 | D73: 12225 | E73: 43203
B74: Pasakiškai turtingi (Crazy Rich Asians) | C74: 55351.12 | D74: 10414 | E74: 43343
... B76: Diunkerkas (Dunkirk) | C76: 113.02 | D76: 23 | E76: 42937
A77: ACME Film / WB Total | B77: =COUNTA(B62:B76) -> 15 | C77: 2633917.3 | D77: 468870
A78: NCG Distribution / Universal Pictures International | B78: Grinčas (The Grinch) | C78: 648378.34 | D78: 131098 | E78: 43434
B79: Penkiasdešimt išlaisvintų atspalvių (Fifty Shades Freed) | C79: 511889.27 | D79: 89502 | E79: 43140
B80: Juros periodo pasaulis: Kritusi karalystė (Jurassic World: Fallen Kingdom) | C80: 261232.64 | D80: 46948 | E80: 43259
B81: Super Džonis smogia (Johnny English Strikes Again) | C81: 256713.3 | D81: 46679 | E81: 43364
B82: Mamma Mia! Štai ir mes (Mamma Mia! Here We Go Again) | C82: 179325.03 | D82: 31437 | E82: 43301
B83: Mirtingos mašinos (Mortal Engines) | C83: 92434.62 | D83: 15170 | E83: 43441
B84: Dangoraižis (Skyscraper) | C84: 91763.77 | D84: 15284 | E84: 43294
B85: Tiesa arba drąsa (Truth or Dare) | C85: 78915.54 | D85: 15065 | E85: 43210
B86: Pirmasis žmogus (First Man) | C86: 75693.47 | D86: 13343 | E86: 43392
B87: Pirmasis išvalymas (The first Purge) | C87: 75581.64 | D87: 13389 | E87: 43308
B88: Helovinas (Halloween) | C88: 61078.07 | D88: 11043 | E88: 43399
B89: Ugnies žiedas: Sukilimas (Pacific Rim: Uprising) | C89: 51978.1 | D89: 8680 | E89: 43182
B90: Seksui ne! (Blockers) | C90: 49428.3 | D90: 9288 | E90: 43196
... B101: Bjaurusis aš 2 (Despicable Me 2) | C101: 185 | D101: 97 | E101: 41467
A102: NCG Distribution / Universal Pictures International Total | B102: =COUNTA(B78:B101) -> 24 | C102: 2589340.1 | D102: 477938
A103: Vabalo filmai | B103: Klasės susitikimas: berniukai sugrįžta! (Klasės susitikimas: berniukai sugrįžta!) | C103: 936798 | D103: 171672 | E103: 43098
B104: Lietuviški svingeriai (Lietuviški svingeriai) | C104: 645911 | D104: 111943 | E104: 43399
B105: Tarp mūsų, mergaičių (Tarp mūsų, mergaičių) | C105: 279880 | D105: 47032 | E105: 43462
B106: Aš Žvaigždė. (Aš Žvaigždė.) | C106: 232725 | D106: 42943 | E106: 43133
B107: Rūta (Rūta) | C107: 152671 | D107: 29143 | E107: 43161
B108: Trys milijonai eurų (Trys milijonai eurų) | C108: 50570 | D108: 9928 | E108: 43035
A109: Vabalo filmai Total | B109: =COUNTA(B103:B108) -> 6 | C109: 2298555 | D109: 412661
A110: Theatrical Film Distribution / 20th Century Fox | B110: Bohemijos rapsodija (Bohemian Rhapsody) | C110: 950985.75 | D110: 161095 | E110: 43406
B111: Deadpool 2 (Deadpool 2) | C111: 376475.67 | D111: 66599 | E111: 43238
B112: Bėgantis labirintu: vaistai nuo mirties (Maze Runner: The Death Cure) | C112: 211095.11 | D112: 37621 | E112: 43126
B113: Bulius Ferdinandas (Ferdinand) | C113: 200511.82 | D113: 44428 | E113: 43084
B114: Raudonasis Žvirblis (Red Sparrow) | C114: 163174.93 | D114: 28838 | E114: 43161
B115: Vandens forma (The Shape of Water) | C115: 99782.27 | D115: 18835 | E115: 43119
B116: Grobuonis. Patobulinimas (The Predator) | C116: 65891.01 | D116: 11570 | E116: 43357
B117: Trys stendai prie Ebingo, Misūryje (Three Billboards Outside Ebbing, Missouri) | C117: 42853.72 | D117: 8078 | E117: 43133
B118: Tamsiausios galios (Darkest Minds) | C118: 37601.63 | D118: 6775 | E118: 43315
B119: Didysis šou meistras (The Greatest Showman) | C119: 28712.32 | D119: 5562 | E119: 43091
B120: Našlės (Widows) | C120: 25179.83 | D120: 4525 | E120: 43420
B121: Su meile, Saimonas (Love, Simon) | C121: 20237 | D121: 4271 | E121: 43266
B122: Sunkūs laikai viešbutyje "El Royale" (Bad Times At The El Royale) | C122: 19935.1 | D122: 3697 | E122: 43385
... B125: Ponas kūdikis (The Boss Baby) | C125: 1079.9 | D125: 493 | E125: 42839
A126: Theatrical Film Distribution / 20th Century Fox Total | B126: =COUNTA(B110:B125) -> 16 | C126: 2253291.8 | D126: 404717
A127: ACME Film / SONY | B127: Monstrų viešbutis 3: Atostogos (Hotel Transylvania 3) | C127: 612862.21 | D127: 128402 | E127: 43294
B128: Venomas (Venom) | C128: 304023.91 | D128: 50255 | E128: 43378
B129: Triušis Piteris (Peter Rabbit) | C129: 254053.81 | D129: 56895 | E129: 43182
B130: Džiumandži: Sveiki atvykę į Džiungles (Jumanji: Welcome To The Jungle) | C130: 184654.19 | D130: 31860 | E130: 43091
B131: Tūnąs tamsoje: paskutinis raktas (Insidious: The Last Key ) | C131: 181160.53 | D131: 32235 | E131: 43105
B132: Hanos Greis Egzorcizmas (Possession of Hannah Grace) | C132: 103223.67 | D132: 17413 | E132: 43441
B133: Žmogus voras: Į naują visatą (Spiderman into the Spiderverse) | C133: 88531.74 | D133: 17817 | E133: 43448
B134: Alfa (Solutrean (Alpha)) | C134: 81527.14 | D134: 15029 | E134: 43343
B135: Ekvalaizeris 2 (Equalizer 2) | C135: 80255.54 | D135: 13924 | E135: 43301
B136: Slendermenas (Slender Man) | C136: 63103.4 | D136: 12291 | E136: 43336
B137: Robinas Hudas (Robin Hood (2018)) | C137: 52724.73 | D137: 9233 | E137: 43434
B138: Paieška (Searching) | C138: 41923.46 | D138: 7675 | E138: 43357
B139: Mergina voratinklyje (Girl in the Spiders Web) | C139: 14490.81 | D139: 2517 | E139: 43413
... B142: Emodži filmas (Emoji) | C142: 840.9 | D142: 533 | E142: 42965
A143: ACME Film / SONY Total | B143: =COUNTA(B127:B142) -> 16 | C143: 2085162.4 | D143: 400059
A144: Theatrical Film Distribution / WDSMPI | B144: Nerealieji 2 (Incredibles 2) | C144: 499648.38 | D144: 103448 | E144: 43315
B145: Keršytojai. Begalybės karas (Avengers: Infinity War) | C145: 350050.88 | D145: 58334 | E145: 43217
B146: Koko (Coco) | C146: 276409.06 | D146: 59333 | E146: 43105
B147: Juodoji pantera (Black Panther) | C147: 189286.06 | D147: 32487 | E147: 43147
B148: Skruzdėliukas ir Vapsva (Ant-Man and The Wasp) | C148: 81832.56 | D148: 14212 | E148: 43287
B149: Solo. Žvaigždžių karų istorija (Solo: A Star Wars Story) | C149: 58998.62 | D149: 10717 | E149: 43245
B150: Spragtukas ir keturios karalystės (The Nutcracker and the Four Realms) | C150: 49701.42 | D150: 9489 | E150: 43406
B151: Žvaigždžių karai: paskutiniai džedajai (Star Wars: Episode VIII - The Last Jedi) | C151: 48453.58 | D151: 8420 | E151: 43084
B152: Merė Popins grįžta (Mary Poppins Returns) | C152: 26115.8 | D152: 5357 | E152: 43462
B153: Jonukas (Christopher Robin) | C153: 10524.63 | D153: 2194 | E153: 43385
B154: Ralfas griovėjas 2 (Ralph Breaks the Internet: Wreck-It Ralph 2) | C154: 1530 | D154: 306 | E154: 43476
B155: Vajana (Moana) | C155: 1405.2 | D155: 800 | E155: 42699
B156: Ratai 3 (Cars 3) | C156: 1316.5 | D156: 720 | E156: 42944
B157: Toras. Pasaulių pabaiga (Thor: Ragnarok) | C157: 181.5 | D157: 37 | E157: 43042
A158: Theatrical Film Distribution / WDSMPI Total | B158: =COUNTA(B144:B157) -> 14 | C158: 1595454.2 | D158: 305854
A159: Garsų pasaulio įrašai | B159: Gnomai (Gnome Alone) | C159: 116679 | D159: 25465 | E159: 43154
B160: Aš graži (I feel pretty) | C160: 79442 | D160: 16121 | E160: 43231
...

Sheet 2018
A1: 2018
A2: Lietuvos kino teatruose rodytų filmų TOP
A5: Eil. Nr. | B5: Filmo pavadinimas | C5: Filmo pavadinimas originalo kalba | D5: Kilmės šalis | E5: Pajamos | F5: Žiūrovų skaičius | G5: Kopijų skaičius | H5: Premjeros data | I5: Platintojas
A6: =IF(B6<>"",ROWS($B$6:B6),"") -> 1 | B6: Tarp pilkų debesų | C6: Ashes in the Snow | D6: LT, US | E6: 1295396 | F6: 240880 | G6: 19 | H6: 43385 | I6: ACME Film
A7: =IF(B7<>"",ROWS($B$6:B7),"") -> 2 | B7: Bohemijos rapsodija | C7: Bohemian Rhapsody | D7: UK, US | E7: 950985.75 | F7: 161095 | G7: 7 | H7: 43406 | I7: Theatrical Film Distribution / 20th Century Fox
A8: =IF(B8<>"",ROWS($B$6:B8),"") -> 3 | B8: Klasės susitikimas: berniukai sugrįžta! | C8: Klasės susitikimas: berniukai sugrįžta! | D8: LT | E8: 936798 | F8: 171672 | G8: 18 | H8: 43098 | I8: Vabalo filmai
A9: =IF(B9<>"",ROWS($B$6:B9),"") -> 4 | B9: Grinčas | C9: The Grinch | D9: US | E9: 648378.34 | F9: 131098 | G9: 19 | H9: 43434 | I9: NCG Distribution / Universal Pictures International
A10: =IF(B10<>"",ROWS($B$6:B10),"") -> 5 | B10: Lietuviški svingeriai | C10: Lietuviški svingeriai | D10: LT | E10: 645911 | F10: 111943 | G10: 17 | H10: 43399 | I10: Vabalo filmai
A11: =IF(B11<>"",ROWS($B$6:B11),"") -> 6 | B11: Monstrų viešbutis 3: Atostogos | C11: Hotel Transylvania 3 | D11: US | E11: 612862.21 | F11: 128402 | G11: 17 | H11: 43294 | I11: ACME Film / SONY
A12: =IF(B12<>"",ROWS($B$6:B12),"") -> 7 | B12: Moterys meluoja geriau. Robertėlis | C12: Moterys meluoja geriau. Robertėlis | D12: LT | E12: 595681.6 | F12: 107770 | G12: 17 | H12: 43315 | I12: Singing fish
A13: =IF(B13<>"",ROWS($B$6:B13),"") -> 8 | B13: Taip gimė žvaigždė | C13: Star ir Born | D13: US | E13: 553346.12 | F13: 96024 | G13: 15 | H13: 43378 | I13: ACME Film / WB
A14: =IF(B14<>"",ROWS($B$6:B14),"") -> 9 | B14: Penkiasdešimt išlaisvintų atspalvių | C14: Fifty Shades Freed | D14: US | E14: 511889.27 | F14: 89502 | G14: 16 | H14: 43140 | I14: NCG Distribution / Universal Pictures International
A15: =IF(B15<>"",ROWS($B$6:B15),"") -> 10 | B15: Nerealieji 2 | C15: Incredibles 2 | D15: US | E15: 499648.38 | F15: 103448 | G15: 35 | H15: 43315 | I15: Theatrical Film Distribution / WDSMPI
A16: =IF(B16<>"",ROWS($B$6:B16),"") -> 11 | B16: Pelėdų kalnas | C16: Pelėdų kalnas | D16: LT | E16: 446993 | F16: 85148 | G16: 18 | H16: 43147 | I16: Kino Gamyba
A17: =IF(B17<>"",ROWS($B$6:B17),"") -> 12 | B17: Melagiai | C17: Melagiai | D17: LT | E17: 413600 | F17: 75129 | G17: 18 | H17: 43413 | I17: Film Jam
... A58: =IF(B58<>"",ROWS($B$6:B58),"") -> 53 | B58: Mirtingos mašinos | C58: Mortal Engines | D58: US, NZ | E58: 92434.62 | F58: 15170 | G58: 16 | H58: 43441 | I58: NCG Distribution / Universal Pictures International
A59: =IF(B59<>"",ROWS($B$6:B59),"") -> 54 | B59: Kol dar neatėjo audra | C59: Adrift | D59: US | E59: 91805.21 | F59: 17517 | G59: 6 | H59: Pre-view | I59: ACME Film
A60: =IF(B60<>"",ROWS($B$6:B60),"") -> 55 | B60: Dangoraižis | C60: Skyscraper | D60: US | E60: 91763.77 | F60: 15284 | G60: 15 | H60: 43294 | I60: NCG Distribution / Universal Pictures International
A61: =IF(B61<>"",ROWS($B$6:B61),"") -> 56 | B61: Žmogus voras: Į naują visatą | C61: Spiderman into the Spiderverse | D61: US | E61: 88531.74 | F61: 17817 | G61: 14 | H61: 43448 | I61: ACME Film / SONY
A62: =IF(B62<>"",ROWS($B$6:B62),"") -> 57 | B62: Slaptasis agentas Maksas | C62: Show Dogs | D62: US | E62: 88161.28 | F62: 19756 | G62: 13 | H62: 43280 | I62: ACME Film
A63: =IF(B63<>"",ROWS($B$6:B63),"") -> 58 | B63: Kamanė | C63: Bumblebee | D63: US | E63: 86712.54 | F63: 14143 | G63: 12 | H63: 43455 | I63: NCG Distribution / Paramount Pictures
A64: =IF(B64<>"",ROWS($B$6:B64),"") -> 59 | B64: Nuostabieji Lūzeriai. Kita planeta | C64: Nuostabieji Lūzeriai. Kita planeta | D64: LT | E64: 86659.7 | F64: 19044 | G64: 12 | H64: 43140 | I64: Studija NOMINUM
A65: =IF(B65<>"",ROWS($B$6:B65),"") -> 60 | B65: Skruzdėliukas ir Vapsva | C65: Ant-Man and The Wasp | D65: US | E65: 81832.56 | F65: 14212 | G65: 25 | H65: 43287 | I65: Theatrical Film Distribution / WDSMPI
A66: =IF(B66<>"",ROWS($B$6:B66),"") -> 61 | B66: Alfa | C66: Solutrean (Alpha) | D66: US | E66: 81527.14 | F66: 15029 | G66: 15 | H66: 43343 | I66: ACME Film / SONY
A67: =IF(B67<>"",ROWS($B$6:B67),"") -> 62 | B67: Ekvalaizeris 2 | C67: Equalizer 2 | D67: US | E67: 80255.54 | F67: 13924 | G67: 12 | H67: 43301 | I67: ACME Film / SONY
A68: =IF(B68<>"",ROWS($B$6:B68),"") -> 63 | B68: Aš graži | C68: I feel pretty | D68: US | E68: 79442 | F68: 16121 | G68: 13 | H68: 43231 | I68: Garsų pasaulio įrašai
A69: =IF(B69<>"",ROWS($B$6:B69),"") -> 64 | B69: Tiesa arba drąsa | C69: Truth or Dare | D69: US | E69: 78915.54 | F69: 15065 | G69: 12 | H69: 43210 | I69: NCG Distribution / Universal Pictures International
A70: =IF(B70<>"",ROWS($B$6:B70),"") -> 65 | B70: Trys sekundės | C70: Dvizheniye vverkh | D70: RU | E70: 77542 | F70: 13818 | G70: 8 | H70: 43112 | I70: Garsų pasaulio įrašai
A71: =IF(B71<>"",ROWS($B$6:B71),"") -> 66 | B71: Princas Žavusis | C71: Charming | D71: US, CA | E71: 77030 | F71: 17532 | G71: 13 | H71: 43399 | I71: Garsų pasaulio įrašai
... A151: =IF(B151<>"",ROWS($B$6:B151),"") -> 146 | B151: Fiksikai | C151: Fiksiki | D151: RU | E151: 24021 | F151: 5753 | G151: 12 | H151: 43098 | I151: Garsų pasaulio įrašai
A152: =IF(B152<>"",ROWS($B$6:B152),"") -> 147 | B152: Vidurnakčio saulė | C152: Midnight Sun | D152: US | E152: 23997.52 | F152: 4427 | G152: 14 | H152: 2018-04-04 | I152: ACME Film
A153: =IF(B153<>"",ROWS($B$6:B153),"") -> 148 | B153: Džimas Saga ir mašinistas Lukas | C153: Jim Knopf und Lukas der Lokomotivführer | D153: DE | E153: 23604 | F153: 6055 | G153: 15 | H153: 43231 | I153: Garsų pasaulio įrašai
A154: =IF(B154<>"",ROWS($B$6:B154),"") -> 149 | B154: Nesijaudink, jis toli nenueis | C154: Don't Worry, He Won't Get Far on Foot | D154: US, FR | E154: 23172.8 | F154: 4836 | G154: 11 | H154: 43336 | I154: A-one Films
A155: =IF(B155<>"",ROWS($B$6:B155),"") -> 150 | B155: Leitis | C155: Leitis | D155: LT | E155: 22589.6 | F155: 6350 | G155: 17 | H155: 43287 | I155: Be Tabu ir Ko
A156: =IF(B156<>"",ROWS($B$6:B156),"") -> 151 | B156: Jūsų Vincentas | C156: Loving Vincent | D156: UK, PL | E156: 22570.37 | F156: 4748 | G156: 4 | H156: 43189 | I156: Europos kinas
A157: =IF(B157<>"",ROWS($B$6:B157),"") -> 152 | B157: Paskutinis krikštatėvis. Džonas Gotti | C157: Gotti | D157: CA, US | E157: 22469.19 | F157: 3920 | G157: 13 | H157: 43322 | I157: Theatrical Film Distribution
A158: =IF(B158<>"",ROWS($B$6:B158),"") -> 153 | B158: Šaltasis karas | C158: Zimna wojna | D158: PL | E158: 22342 | F158: 4458 | G158: 11 | H158: 43434 | I158: Garsų pasaulio įrašai
A159: =IF(B159<>"",ROWS($B$6:B159),"") -> 154 | B159: Gringo | C159: Untitled Nash Edgerton (Gringo) | D159: US,AU | E159: 22203.46 | F159: 4125 | G159: 12 | H159: 43168 | I159: ACME Film
A160: =IF(B160<>"",ROWS($B$6:B160),"") -> 155 | B160: Gimšė! | C160: Днюха! | D160: RU | E160: 22049.71 | F160: 3819 | G160: 10 | H160: 43343 | I160: Best Film
A161: =IF(B161<>"",ROWS($B$6:B161),"") -> 156 | B161: Undinė. Mirties ežeras | C161: Русалка. Озеро мертвых | D161: RU | E161: 21960.86 | F161: 4002 | G161: 11 | H161: 43294 | I161: ACME Film
A162: =IF(B162<>"",ROWS($B$6:B162),"") -> 157 | B162: Meškiukas Padingtonas 2 | C162: Paddington 2 | D162: UK | E162: 21927.98 | F162: 4781 | G162: 10 | H162: 43070 | I162: ACME Film
A163: =IF(B163<>"",ROWS($B$6:B163),"") -> 158 | B163: Stebuklas | C163: Stebuklas | D163: LT | E163: 20897.8 | F163: 5042 | G163: 9 | H163: 43077 | I163: In Script
A164: =IF(B164<>"",ROWS($B$6:B164),"") -> 159 | B164: Su meile, Saimonas | C164: Love, Simon | D164: US | E164: 20237 | F164: 4271 | G164: 13 | H164: 43266 | I164: Theatrical Film Distribution / 20th Century Fox
... A361: =IF(B361<>"",ROWS($B$6:B361),"") -> 356 | B361: Mano mažasis ponis. Filmas | C361: My Little Pony | D361: US | E361: 27 | F361: 9 | G361: 1 | H361: 43014 | I361: ACME Film
A362: Total | B362: =SUBTOTAL(103,_2018[Filmo pavadinimas]) -> 356 | E362: =SUBTOTAL(109,_2018[Pajamos]) -> 22406025 | F362: =SUBTOTAL(109,_2018[Žiūrovų skaičius]) -> 4264574
D364: Mėnuo | E364: Pajamos | F364: Žiūrovų skaičius
D365: Sausis | E365: =Table3[[#Totals],[Pajamos]] -> 2569689.4 | F365: =Table3[[#Totals],[Žiūrovų skaičius]] -> 495555
D366: Vasaris | E366: =Table3_Vasaris[[#Totals],[Pajamos]] -> 2090596.5 | F366: =Table3_Vasaris[[#Totals],[Žiūrovų skaičius]] -> 394565
D367: Kovas | E367: =Table3_Kovas[[#Totals],[Pajamos]] -> 1435251.3 | F367: =Table3_Kovas[[#Totals],[Žiūrovų skaičius]] -> 277306
D368: Balandis | E368: =Table3_Balandis[[#Totals],[Pajamos]] -> 1370429.1 | F368: =Table3_Balandis[[#Totals],[Žiūrovų skaičius]] -> 267294
D369: Gegužė | E369: =Table3_Gegužė[[#Totals],[Pajamos]] -> 898938.83 | F369: =Table3_Gegužė[[#Totals],[Žiūrovų skaičius]] -> 176162
D370: Birželis | E370: =Table3_Birželis[[#Totals],[Pajamos]] -> 1118541.5 | F370: =Table3_Birželis[[#Totals],[Žiūrovų skaičius]] -> 223818
D371: Liepa | E371: =Table3_Liepa[[#Totals],[Pajamos]] -> 1379716.7 | F371: =Table3_Liepa[[#Totals],[Žiūrovų skaičius]] -> 269827
D372: Rugpjūtis | E372: =Table3_Rugpjūtis[[#Totals],[Pajamos]] -> 1979695.7 | F372: =Table3_Rugpjūtis[[#Totals],[Žiūrovų skaičius]] -> 383429
D373: Rugsėjis | E373: =Table3_Rugsėjis[[#Totals],[Pajamos]] -> 1485491.1 | F373: =Table3_Rugsėjis[[#Totals],[Žiūrovų skaičius]] -> 273832
D374: Spalis | E374: =Table3_Spalis[[#Totals],[Pajamos]] -> 2733513.7 | F374: =Table3_Spalis[[#Totals],[Žiūrovų skaičius]] -> 517614
D375: Lapkritis | E375: =Table3_Lapkritis[[#Totals],[Pajamos]] -> 2756552.5 | F375: =Table3_Lapkritis[[#Totals],[Žiūrovų skaičius]] -> 501518
D376: Gruodis | E376: =Table3_Gruodis[[#Totals],[Pajamos]] -> 2587608.7 | F376: =Table3_Gruodis[[#Totals],[Žiūrovų skaičius]] -> 483654
D377: Iš viso | E377: =SUM(E365:E376) -> 22406025 | F377: =SUM(F365:F376) -> 4264574

Sheet Sausis
A1: ='2018'!A1 -> 2018
A2: ='2018'!A2 -> Lietuvos kino teatruose rodytų filmų TOP
A3: Sausis
A5: Eil. Nr. | B5: Filmo pavadinimas | C5: Filmo pavadinimas originalo kalba | D5: Kilmės šalis | E5: Pajamos | F5: Žiūrovų skaičius | G5: Kopijų skaičius | H5: Premjeros data | I5: Platintojas
A6: =IF(B6<>"",ROWS($B$6:B6),"") -> 1 | B6: Klasės susitikimas: berniukai sugrįžta! | C6: Klasės susitikimas: berniukai sugrįžta! | D6: LT | E6: 848315 | F6: 155259 | G6: 18 | H6: 43098 | I6: Vabalo filmai
A7: =IF(B7<>"",ROWS($B$6:B7),"") -> 2 | B7: Grąžinti nepriklausomybę | C7: Grąžinti nepriklausomybę | D7: LT | E7: 252033 | F7: 49932 | G7: 17 | H7: 43119 | I7: Olegas ir storas
A8: =IF(B8<>"",ROWS($B$6:B8),"") -> 3 | B8: Koko | C8: Coco | D8: US | E8: 214560.14 | F8: 45688 | G8: 31 | H8: 43105 | I8: Theatrical Film Distribution / WDSMPI
A9: =IF(B9<>"",ROWS($B$6:B9),"") -> 4 | B9: Tūnąs tamsoje: paskutinis raktas | C9: Insidious: The Last Key | D9: US | E9: 176977.51 | F9: 31537 | G9: 15 | H9: 43105 | I9: ACME Film / SONY
A10: =IF(B10<>"",ROWS($B$6:B10),"") -> 5 | B10: Džiumandži: Sveiki atvykę į Džiungles | C10: Jumanji: Welcome To The Jungle | D10: US | E10: 163999.51 | F10: 28434 | G10: 10 | H10: 43091 | I10: ACME Film / SONY
A11: =IF(B11<>"",ROWS($B$6:B11),"") -> 6 | B11: Bulius Ferdinandas | C11: Ferdinand | D11: US | E11: 136314.83 | F11: 29905 | G11: 23 | H11: 43084 | I11: Theatrical Film Distribution / 20th Century Fox
A12: =IF(B12<>"",ROWS($B$6:B12),"") -> 7 | B12: Bėgantis labirintu: vaistai nuo mirties | C12: Maze Runner: The Death Cure | D12: US | E12: 84918.11 | F12: 15356 | G12: 15 | H12: 43126 | I12: Theatrical Film Distribution / 20th Century Fox
A13: =IF(B13<>"",ROWS($B$6:B13),"") -> 8 | B13: Trys sekundės | C13: Dvizheniye vverkh | D13: RU | E13: 65327 | F13: 11747 | G13: 8 | H13: 43112 | I13: Garsų pasaulio įrašai
A14: =IF(B14<>"",ROWS($B$6:B14),"") -> 9 | B14: Pokerio princesė | C14: Molly's Game | D14: US | E14: 59424.85 | F14: 11196 | G14: 13 | H14: 43105 | I14: Theatrical Film Distribution
A15: =IF(B15<>"",ROWS($B$6:B15),"") -> 10 | B15: Vandens forma | C15: The Shape of Water | D15: US | E15: 55992.76 | F15: 10930 | G15: 15 | H15: 43119 | I15: Theatrical Film Distribution / 20th Century Fox
A16: =IF(B16<>"",ROWS($B$6:B16),"") -> 11 | B16: Slaptas keleivis | C16: Commuter | D16: US | E16: 50688.38 | F16: 9604 | G16: 10 | H16: 43112 | I16: ACME Film
A17: =IF(B17<>"",ROWS($B$6:B17),"") -> 12 | B17: Trys milijonai eurų | C17: Trys milijonai eurų | D17: LT | E17: 49469 | F17: 9744 | G17: 8 | H17: 43035 | I17: Vabalo filmai
... A48: =IF(B48<>"",ROWS($B$6:B48),"") -> 43 | B48: Tu išnyksti | C48: Du forsvinder | D48: DK ,SE | E48: 1088.8 | F48: 290 | G48: 3 | H48: 43105 | I48: Kino Aljansas
A49: =IF(B49<>"",ROWS($B$6:B49),"") -> 44 | B49: 12 stipriausių | C49: Horse Soldiers (12 strong) | D49: US | E49: 1004.44 | F49: 204 | G49: 6 | H49: Preview (2018-02-02) | I49: ACME Film
A50: =IF(B50<>"",ROWS($B$6:B50),"") -> 45 | B50: Apie kūna ir sielą | C50: A teströl és a lélekröl | D50: HU | E50: 870.1 | F50: 205 | G50: 1 | H50: 43084 | I50: A-one films
A51: =IF(B51<>"",ROWS($B$6:B51),"") -> 46 | B51: Arčiau debesų | C51: Cloudboy | D51: BG, SE, NL, NO | E51: 734 | F51: 292 | G51: 1 | H51: 42988 | I51: Skalvijos kino centras
A52: =IF(B52<>"",ROWS($B$6:B52),"") -> 47 | B52: Dėl viso pikto | C52: Ôtez-moi d'un doute | D52: FR, BE | E52: 732 | F52: 237 | G52: 1 | H52: 43091 | I52: A-one films
A53: =IF(B53<>"",ROWS($B$6:B71),"") -> 66 | B53: Magiška dėžutė | C53: Den magiske juleæske | D53: SE, DK | E53: 613 | F53: 301 | G53: 1 | H53: 43084 | I53: KC Garsas
A54: =IF(B54<>"",ROWS($B$6:B54),"") -> 49 | B54: Pakeliui į mokyklą | C54: Sur le Chemin de lʾécole | D54: FR, CN, ZA, BR, CO, | E54: 558 | F54: 256 | G54: 1 | H54: 42030 | I54: Skalvijos kino centras
A55: =IF(B55<>"",ROWS($B$6:B55),"") -> 50 | B55: Gulbinas | C55: Svanurinn | D55: IS ,DE ,EE | E55: 506 | F55: 189 | G55: 2 | H55: 43105 | I55: Kino Aljansas
A56: =IF(B56<>"",ROWS($B$6:B56),"") -> 51 | B56: Panelė Rūgštynė | C56: Jamais Contente | D56: FR | E56: 450 | F56: 158 | G56: 1 | H56: 42721 | I56: Skalvijos kino centras
A57: =IF(B57<>"",ROWS($B$6:B57),"") -> 52 | B57: Noriu būti savimi (dokumentinių filmų programa) | C57: Noriu būti savimi (dokumentinių filmų programa) | D57: TBA | E57: 295 | F57: 120 | G57: 1 | H57: 42693 | I57: Skalvijos kino centras
A58: =IF(B58<>"",ROWS($B$6:B58),"") -> 53 | B58: Veidai Kaimai | C58: Visages Villages | D58: FR | E58: 226.8 | F58: 73 | G58: 1 | H58: 43070 | I58: A-one films
A59: =IF(B59<>"",ROWS($B$6:B59),"") -> 54 | B59: Didžioji skruzdėlyčių karalystė | C59: Minuscule, Valley of the Lost Ants | D59: FR | E59: 224 | F59: 112 | G59: 1 | H59: 41691 | I59: ACME Film
A60: =IF(B60<>"",ROWS($B$6:B60),"") -> 55 | B60: Kaimynė šnipė | C60: Next Door Spy | D60: DK | E60: 219.5 | F60: 107 | G60: 1 | H60: 43015 | I60: Skalvijos kino centras
A61: =IF(B61<>"",ROWS($B$6:B61),"") -> 56 | B61: Mažasis vampyras | C61: Little Vampire | D61: NL | E61: 125 | F61: 34 | G61: 1 | H61: 43063 | I61: Garsų pasaulio įrašai
A62: =IF(B62<>"",ROWS($B$6:B62),"") -> 57 | B62: Sau ir draugui (dokumentinių filmų programa) | C62: Sau ir draugui (dokumentinių filmų programa) | D62: TBA | E62: 117 | F62: 39 | G62: 1 | H62: 43001 | I62: Skalvijos kino centras
A63: =IF(B63<>"",ROWS($B$6:B63),"") -> 58 | B63: Tamsta Varlius | C63: Meester Kikker | D63: NL | E63: 105 | F63: 35 | G63: 1 | H63: 42654 | I63: Skalvijos kino centras
A64: =IF(B64<>"",ROWS($B$6:B64),"") -> 59 | B64: Keliaujantys paukščiai | C64: Les oiseaux de passage | D64: BE, FR | E64: 100 | F64: 50 | G64: 1 | H64: 42301 | I64: Skalvijos kino centras
A65: =IF(B65<>"",ROWS($B$6:B65),"") -> 60 | B65: Ką pašnibždėjo pelėda (Trumpukų programa) | C65: Ką pašnibždėjo pelėda (Trumpukų programa) | D65: TBA | E65: 100 | F65: 25 | G65: 1 | H65: 42749 | I65: Skalvijos kino centras
... A71: =IF(B71<>"",ROWS($B$6:B71),"") -> 66 | B71: Kitos merginos | C71: Toiset Tytot | D71: FI | E71: 20 | F71: 11 | G71: 1 | H71: 42636 | I71: KC Garsas
E72: =SUBTOTAL(109,Table3[Pajamos]) -> 2569689.4 | F72: =SUBTOTAL(109,Table3[Žiūrovų skaičius]) -> 495555

Sheet Vasaris
A1: ='2018'!A1 -> 2018
A2: ='2018'!A2 -> Lietuvos kino teatruose rodytų filmų TOP
A3: Vasaris
A5: Eil. Nr. | B5: Filmo pavadinimas | C5: Filmo pavadinimas originalo kalba | D5: Kilmės šalis | E5: Pajamos | F5: Žiūrovų skaičius | G5: Kopijų skaičius | H5: Premjeros data | I5: Platintojas
A6: =IF(B6<>"",ROWS($B$6:B6),"") -> 1 | B6: Penkiasdešimt išlaisvintų atspalvių | C6: Fifty Shades Freed | D6: US | E6: 464972.3 | F6: 81443 | G6: 16 | H6: 43140 | I6: NCG Distribution / Universal Pictures International
A7: =IF(B7<>"",ROWS($B$6:B7),"") -> 2 | B7: Pelėdų kalnas | C7: Pelėdų kalnas | D7: LT | E7: 302650 | F7: 56927 | G7: 18 | H7: 43147 | I7: Kino Gamyba
A8: =IF(B8<>"",ROWS($B$6:B8),"") -> 3 | B8: Aš Žvaigždė. | C8: Aš Žvaigždė. | D8: LT | E8: 219036 | F8: 39575 | G8: 18 | H8: 43133 | I8: Vabalo filmai
A9: =IF(B9<>"",ROWS($B$6:B9),"") -> 4 | B9: Juodoji pantera | C9: Black Panther | D9: US | E9: 134788.12 | F9: 23102 | G9: 23 | H9: 43147 | I9: Theatrical Film Distribution / WDSMPI
A10: =IF(B10<>"",ROWS($B$6:B10),"") -> 5 | B10: Grąžinti nepriklausomybę | C10: Grąžinti nepriklausomybę | D10: LT | E10: 126911.79 | F10: 25220 | G10: 12 | H10: 43119 | I10: Olegas ir storas
A11: =IF(B11<>"",ROWS($B$6:B11),"") -> 6 | B11: Bėgantis labirintu: vaistai nuo mirties | C11: Maze Runner: The Death Cure | D11: US | E11: 117435.74 | F11: 20756 | G11: 14 | H11: 43126 | I11: Theatrical Film Distribution / 20th Century Fox
A12: =IF(B12<>"",ROWS($B$6:B12),"") -> 7 | B12: Klasės susitikimas: berniukai sugrįžta! | C12: Klasės susitikimas: berniukai sugrįžta! | D12: LT | E12: 79231 | F12: 14486 | G12: 10 | H12: 43098 | I12: Vabalo filmai
A13: =IF(B13<>"",ROWS($B$6:B13),"") -> 8 | B13: Dagas iš akmens amžiaus | C13: Early Man | D13: UK, FR | E13: 78057.8 | F13: 17957 | G13: 16 | H13: 43140 | I13: ACME Film
A14: =IF(B14<>"",ROWS($B$6:B14),"") -> 9 | B14: Nuostabieji Lūzeriai. Kita planeta | C14: Nuostabieji Lūzeriai. Kita planeta | D14: LT | E14: 55056 | F14: 11068 | G14: 12 | H14: 43140 | I14: Studija NOMINUM
A15: =IF(B15<>"",ROWS($B$6:B15),"") -> 10 | B15: Koko | C15: Coco | D15: US | E15: 48323.33 | F15: 10445 | G15: 16 | H15: 43105 | I15: Theatrical Film Distribution / WDSMPI
A16: =IF(B16<>"",ROWS($B$6:B16),"") -> 11 | B16: Žaidimų vakaras | C16: Game Night | D16: US | E16: 47987.05 | F16: 9845 | G16: 12 | H16: 43154 | I16: ACME Film / WB
A17: =IF(B17<>"",ROWS($B$6:B17),"") -> 12 | B17: Ledas | C17: Лёд | D17: RU | E17: 45917.79 | F17: 8364 | G17: 5 | H17: 43147 | I17: ACME Film
... A43: =IF(B43<>"",ROWS($B$6:B43),"") -> 38 | B43: Aukšta klasė 3 | C43: Pitch Perfect 3 | D43: US | E43: 954 | F43: 161 | G43: 3 | H43: 43112 | I43: NCG Distribution / Universal Pictures International
A44: =IF(B44<>"",ROWS($B$6:B44),"") -> 39 | B44: Rūta | C44: Rūta | D44: LT | E44: 935 | F44: 166 | G44: 2 | H44: Prie-view (2018-03-02) | I44: Vabalo filmai
A45: =IF(B45<>"",ROWS($B$6:B45),"") -> 40 | B45: Keliaujantys paukščiai | C45: Les oiseaux de passage | D45: BE, FR | E45: 897 | F45: 414 | G45: 1 | H45: 42301 | I45: Skalvijos kino centras
A46: =IF(B46<>"",ROWS($B$6:B46),"") -> 41 | B46: Mano viršūnė | C46: To The Top | D46: FR | E46: 877.8 | F46: 229 | G46: 4 | H46: 43126 | I46: Best Film
A47: =IF(B47<>"",ROWS($B$6:B47),"") -> 42 | B47: Gerumo stebuklas | C47: Wonder | D47: US | E47: 852 | F47: 339 | G47: 1 | H47: 43056 | I47: ACME Film
A48: =IF(B48<>"",ROWS($B$6:B48),"") -> 43 | B48: Močiute, Guten Tag! | C48: LIEBE OMA, GUTEN TAG! | D48: LT, DE | E48: 682.7 | F48: 140 | G48: 1 | H48: 43112 | I48: Tremora
A49: =IF(B49<>"",ROWS($B$6:B49),"") -> 44 | B49: Visi pasaulio pinigai | C49: All the Money in the World | D49: US | E49: 508.28 | F49: 99 | G49: 1 | H49: 43105 | I49: ACME Film
A50: =IF(B50<>"",ROWS($B$6:B50),"") -> 45 | B50: Stebuklas | C50: Stebuklas | D50: LT | E50: 506.3 | F50: 225 | G50: 2 | H50: 43077 | I50: In Script
A51: =IF(B51<>"",ROWS($B$6:B51),"") -> 46 | B51: Tamsta Varlius | C51: Meester Kikker | D51: NL | E51: 479 | F51: 203 | G51: 1 | H51: 42654 | I51: Skalvijos kino centras
A52: =IF(B52<>"",ROWS($B$6:B52),"") -> 47 | B52: Apie kūna ir sielą | C52: A teströl és a lélekröl | D52: HU | E52: 414.8 | F52: 85 | G52: 1 | H52: 43084 | I52: A-one films
A53: =IF(B53<>"",ROWS($B$6:B53),"") -> 48 | B53: 50 Pavasarių | C53: Aurore | D53: FR | E53: 322.3 | F53: 68 | G53: 1 | H53: 43035 | I53: A-one films
A54: =IF(B54<>"",ROWS($B$6:B54),"") -> 49 | B54: Sumažinti žmonės | C54: Downsizing | D54: US | E54: 264.34 | F54: 58 | G54: 1 | H54: 43119 | I54: NCG Distribution / Paramount Pictures
A55: =IF(B55<>"",ROWS($B$6:B55),"") -> 50 | B55: Mažasis Princas | C55: Le Petit Prince | D55: FR | E55: 242 | F55: 121 | G55: 1 | H55: 42322 | I55: ACME Film
A56: =IF(B56<>"",ROWS($B$6:B56),"") -> 51 | B56: Slaptas keleivis | C56: Commuter | D56: US | E56: 222.18 | F56: 58 | G56: 1 | H56: 43112 | I56: ACME Film
... A66: =IF(B66<>"",ROWS($B$6:B66),"") -> 61 | B66: Arčiau debesų | C66: Cloudboy | D66: BG, SE, NL, NO | E66: 34 | F66: 14 | G66: 1 | H66: 42988 | I66: Skalvijos kino centras
E67: =SUBTOTAL(109,Table3_Vasaris[Pajamos]) -> 2090596.5 | F67: =SUBTOTAL(109,Table3_Vasaris[Žiūrovų skaičius]) -> 394565

Sheet Kovas
A1: ='2018'!A1 -> 2018
A2: ='2018'!A2 -> Lietuvos kino teatruose rodytų filmų TOP
A3: Kovas
A5: Eil. Nr. | B5: Filmo pavadinimas | C5: Filmo pavadinimas originalo kalba | D5: Kilmės šalis | E5: Pajamos | F5: Žiūrovų skaičius | G5: Kopijų skaičius | H5: Premjeros data | I5: Platintojas
A6: =IF(B6<>"",ROWS($B$6:B6),"") -> 1 | B6: Raudonasis Žvirblis | C6: Red Sparrow | D6: US | E6: 149172.94 | F6: 26304 | G6: 16 | H6: 43161 | I6: Theatrical Film Distribution / 20th Century Fox
A7: =IF(B7<>"",ROWS($B$6:B7),"") -> 2 | B7: Kapų plėšikė Lara Kroft | C7: Tomb Raider | D7: US | E7: 138804.97 | F7: 22796 | G7: 12 | H7: 43175 | I7: ACME Film / WB
A8: =IF(B8<>"",ROWS($B$6:B8),"") -> 3 | B8: Rūta | C8: Rūta | D8: LT | E8: 138781 | F8: 26440 | G8: 18 | H8: 43161 | I8: Vabalo filmai
A9: =IF(B9<>"",ROWS($B$6:B9),"") -> 4 | B9: Pelėdų kalnas | C9: Pelėdų kalnas | D9: LT | E9: 136946 | F9: 26770 | H9: 43147 | I9: Kino Gamyba
A10: =IF(B10<>"",ROWS($B$6:B10),"") -> 5 | B10: Triušis Piteris | C10: Peter Rabbit | D10: US, AU | E10: 86870.92 | F10: 19321 | G10: 15 | H10: 43182 | I10: ACME Film / SONY
A11: =IF(B11<>"",ROWS($B$6:B11),"") -> 6 | B11: Gnomai | C11: Gnome Alone | D11: US, CA, UK | E11: 73074 | F11: 15858 | G11: 18 | H11: 43154 | I11: Garsų pasaulio įrašai
A12: =IF(B12<>"",ROWS($B$6:B12),"") -> 7 | B12: Bitė Maja: Medaus žaidynės | C12: Maya the Bee: The Honey Games | D12: DE, AU | E12: 56228 | F12: 12117 | G12: 16 | H12: 43168 | I12: Garsų pasaulio įrašai
A13: =IF(B13<>"",ROWS($B$6:B13),"") -> 8 | B13: Juodoji pantera | C13: Black Panther | D13: US | E13: 54020.92 | F13: 9301 | G13: 16 | H13: 43147 | I13: Theatrical Film Distribution / WDSMPI
A14: =IF(B14<>"",ROWS($B$6:B14),"") -> 9 | B14: Žaidimų vakaras | C14: Game Night | D14: US | E14: 53108.7 | F14: 9659 | G14: 8 | H14: 43154 | I14: ACME Film / WB
A15: =IF(B15<>"",ROWS($B$6:B15),"") -> 10 | B15: Penkiasdešimt išlaisvintų atspalvių | C15: Fifty Shades Freed | D15: US | E15: 46916.97 | F15: 8059 | G15: 8 | H15: 43140 | I15: NCG Distribution / Universal Pictures International
A16: =IF(B16<>"",ROWS($B$6:B16),"") -> 11 | B16: Vaiduoklių žemė | C16: Incident In A Ghost Land | D16: FR, CA | E16: 40053.33 | F16: 7151 | G16: 10 | H16: 43182 | I16: Theatrical Film Distribution
A17: =IF(B17<>"",ROWS($B$6:B17),"") -> 12 | B17: Ugnies žiedas: Sukilimas | C17: Pacific Rim: Uprising | D17: US, CH, UK | E17: 38371.09 | F17: 6370 | G17: 13 | H17: 43182 | I17: NCG Distribution / Universal Pictures International
A18: =IF(B18<>"",ROWS($B$6:B18),"") -> 13 | B18: Aš lieknėju! | C18: Я худею | D18: RU | E18: 38225 | F18: 6658 | G18: 8 | H18: 43182 | I18: Best Film
A19: =IF(B19<>"",ROWS($B$6:B19),"") -> 14 | B19: Oazė: žaidimas prasideda | C19: Ready Player One | D19: US | E19: 33734.15 | F19: 5522 | G19: 15 | H19: 43189 | I19: ACME Film / WB
A20: =IF(B20<>"",ROWS($B$6:B20),"") -> 15 | B20: Lady Bird | C20: Lady Bird | D20: US | E20: 31227.24 | F20: 6011 | G20: 13 | H20: 43161 | I20: NCG Distribution / Universal Pictures International
A21: =IF(B21<>"",ROWS($B$6:B21),"") -> 16 | B21: Apiplėšimas uragano akyje | C21: Hurricane Heist | D21: US | E21: 27240.19 | F21: 5031 | G21: 12 | H21: 43168 | I21: Theatrical Film Distribution
... A50: =IF(B50<>"",ROWS($B$6:B50),"") -> 45 | B50: Sūnaus globa | C50: Jusqu'a la garde | D50: FR | E50: 1558.3 | F50: 313 | G50: 6 | H50: 43189 | I50: Europos kinas
A51: =IF(B51<>"",ROWS($B$6:B51),"") -> 46 | B51: Vidurnakčio saulė | C51: Midnight Sun | D51: US | E51: 1334.4 | F51: 234 | G51: 5 | H51: Prie-view (2018-04-04) | I51: ACME Film
A52: =IF(B52<>"",ROWS($B$6:B52),"") -> 47 | B52: Dabar tai jau padėk man, Dievuli! | C52: Ni juge, ni soumise | D52: BE, FR | E52: 1328.35 | F52: 276 | G52: 3 | H52: 43189 | I52: Europos kinas
A53: =IF(B53<>"",ROWS($B$6:B53),"") -> 48 | B53: Tamsta Varlius | C53: Meester Kikker | D53: NL | E53: 1302 | F53: 551 | G53: 1 | H53: 42654 | I53: Skalvijos kino centras
A54: =IF(B54<>"",ROWS($B$6:B54),"") -> 49 | B54: Kvadratas | C54: Rutan | D54: SE, DE, DK, FR | E54: 1108 | F54: 223 | G54: 3 | H54: 43070 | I54: Kino Aljansas
A55: =IF(B55<>"",ROWS($B$6:B55),"") -> 50 | B55: Gražuolė ir Sebastianas: draugai visam gyvenimui | C55: Belle et Sébastien 3, le dernier chapitre | D55: FR | E55: 1044.75 | F55: 226 | G55: 4 | H55: 43189 | I55: Europos kinas
A56: =IF(B56<>"",ROWS($B$6:B56),"") -> 51 | B56: Charmsas | C56: Хармс | D56: RU, LT, MK | E56: 1039 | F56: 277 | G56: 1 | H56: 43161 | I56: Tremora
A57: =IF(B57<>"",ROWS($B$6:B57),"") -> 52 | B57: Espenas ir kalno karalius | C57: Askeladden - I Dovregubbens hall | D57: NO | E57: 986 | F57: 324 | G57: 4 | H57: 43189 | I57: Estinfilm
A58: =IF(B58<>"",ROWS($B$6:B58),"") -> 53 | B58: Ekskursantė | C58: Ekskursantė | D58: LT | E58: 692 | F58: 348 | G58: 1 | H58: 41544 | I58: Cinemark
A59: =IF(B59<>"",ROWS($B$6:B59),"") -> 54 | B59: Trys didvyriai ir Egipto princesė | C59: Три богатыря и принцесса Египта | D59: RU | E59: 688 | F59: 154 | G59: 3 | H59: 43133 | I59: Garsų pasaulio įrašai
A60: =IF(B60<>"",ROWS($B$6:B60),"") -> 55 | B60: Kandelarija | C60: Candelaria | D60: AR, CO, CU, NO, DE | E60: 652.8 | F60: 131 | G60: 1 | H60: 43189 | I60: Europos kinas
A61: =IF(B61<>"",ROWS($B$6:B61),"") -> 56 | B61: „Michelin“ žvaigždutės: virtuvės istorijos | C61: Michelin Stars: Tales from the Kitchen | D61: DK | E61: 636 | F61: 118 | G61: 2 | H61: 43189 | I61: Europos kinas
A62: =IF(B62<>"",ROWS($B$6:B62),"") -> 57 | B62: Kitos merginos | C62: Toiset Tytot | D62: FI | E62: 612 | F62: 326 | G62: 1 | H62: 42636 | I62: KC Garsas
A63: =IF(B63<>"",ROWS($B$6:B63),"") -> 58 | B63: Maria Callas: savais žodžiais | C63: Maria by Callas | D63: FR | E63: 611 | F63: 138 | G63: 4 | H63: 43189 | I63: Europos kinas
... A96: =IF(B96<>"",ROWS($B$6:B96),"") -> 91 | B96: Stalino mirtis | C96: The Death of Stalin | D96: FR, GB | E96: 14.08 | F96: 4 | G96: 1 | H96: 43112 | I96: Theatrical Film Distribution
E97: =SUBTOTAL(109,Table3_Kovas[Pajamos]) -> 1435251.3 | F97: =SUBTOTAL(109,Table3_Kovas[Žiūrovų skaičius]) -> 277306

Sheet Balandis
A1: ='2018'!A1 -> 2018
A2: ='2018'!A2 -> Lietuvos kino teatruose rodytų filmų TOP
A3: Balandis
A5: Eil. Nr. | B5: Filmo pavadinimas | C5: Filmo pavadinimas originalo kalba | D5: Kilmės šalis | E5: Pajamos | F5: Žiūrovų skaičius | G5: Kopijų skaičius | H5: Premjeros data | I5: Platintojas
A6: =IF(B6<>"",ROWS($B$6:B6),"") -> 1 | B6: Sengirė | C6: Sengirė | D6: LT | E6: 170469 | F6: 35757 | G6: 20 | H6: 43189 | I6: VšĮ Sengirė
A7: =IF(B7<>"",ROWS($B$6:B7),"") -> 2 | B7: Keršytojai. Begalybės karas | C7: Avengers: Infinity War | D7: US | E7: 153476.87 | F7: 24823 | G7: 27 | H7: 43217 | I7: Theatrical Film Distribution / WDSMPI
A8: =IF(B8<>"",ROWS($B$6:B8),"") -> 3 | B8: Triušis Piteris | C8: Peter Rabbit | D8: US, AU | E8: 144212.61 | F8: 32156 | G8: 14 | H8: 43182 | I8: ACME Film / SONY
A9: =IF(B9<>"",ROWS($B$6:B9),"") -> 4 | B9: Oazė: žaidimas prasideda | C9: Ready Player One | D9: US | E9: 137258.9 | F9: 23398 | G9: 11 | H9: 43189 | I9: ACME Film / WB
A10: =IF(B10<>"",ROWS($B$6:B10),"") -> 5 | B10: Tylos zona | C10: A Quiet Place | D10: US | E10: 114916.51 | F10: 20857 | G10: 15 | H10: 43196 | I10: NCG Distribution / Paramount Pictures
A11: =IF(B11<>"",ROWS($B$6:B11),"") -> 6 | B11: Griaunantys viską | C11: Rampage | D11: US | E11: 67304.43 | F11: 11734 | G11: 15 | H11: 43203 | I11: ACME Film / WB
A12: =IF(B12<>"",ROWS($B$6:B12),"") -> 7 | B12: Tiesa arba drąsa | C12: Truth or Dare | D12: US | E12: 57431.1 | F12: 11089 | G12: 12 | H12: 43210 | I12: NCG Distribution / Universal Pictures International
A13: =IF(B13<>"",ROWS($B$6:B13),"") -> 8 | B13: Pagrobta princesė | C13: Vykradena pryntsesa: Ruslan i Ludmila | D13: UA | E13: 48285 | F13: 11520 | G13: 16 | H13: 43196 | I13: Garsų pasaulio įrašai
A14: =IF(B14<>"",ROWS($B$6:B14),"") -> 9 | B14: Seksui ne! | C14: Blockers | D14: US | E14: 46866.41 | F14: 8791 | G14: 13 | H14: 43196 | I14: NCG Distribution / Universal Pictures International
A15: =IF(B15<>"",ROWS($B$6:B15),"") -> 10 | B15: Lino: nuotykiai katino kailyje | C15: Lino | D15: BR | E15: 43405.89 | F15: 10277 | G15: 6 | H15: 43203 | I15: ACME Film
A16: =IF(B16<>"",ROWS($B$6:B16),"") -> 11 | B16: Kapų plėšikė Lara Kroft | C16: Tomb Raider | D16: US | E16: 32510.91 | F16: 5573 | G16: 9 | H16: 43175 | I16: ACME Film / WB
A17: =IF(B17<>"",ROWS($B$6:B17),"") -> 12 | B17: Taksi 5 | C17: Taxi 5 | D17: FR | E17: 28527.12 | F17: 5546 | G17: 16 | H17: 43210 | I17: Theatrical Film Distribution
... A19: =IF(B19<>"",ROWS($B$6:B19),"") -> 14 | B19: Aš lieknėju! | C19: Я худею | D19: RU | E19: 25639 | F19: 4721 | G19: 7 | H19: 43182 | I19: Best Film
A20: =IF(B20<>"",ROWS($B$6:B20),"") -> 15 | B20: Vidurnakčio saulė | C20: Midnight Sun | D20: US | E20: 22663.12 | F20: 4193 | G20: 14 | H20: 2018-04-04 | I20: ACME Film
A21: =IF(B21<>"",ROWS($B$6:B21),"") -> 16 | B21: Šventa vieta | C21: The Place | D21: IT | E21: 17416.55 | F21: 3588 | G21: 8 | H21: 43189 | I21: Europos kinas
A22: =IF(B22<>"",ROWS($B$6:B22),"") -> 17 | B22: Raudonasis Žvirblis | C22: Red Sparrow | D22: US | E22: 13783.09 | F22: 2493 | G22: 6 | H22: 43161 | I22: Theatrical Film Distribution / 20th Century Fox
A23: =IF(B23<>"",ROWS($B$6:B23),"") -> 18 | B23: Ugnies žiedas: Sukilimas | C23: Pacific Rim: Uprising | D23: US, CH, UK | E23: 13607.01 | F23: 2310 | G23: 5 | H23: 43182 | I23: NCG Distribution / Universal Pictures International
A24: =IF(B24<>"",ROWS($B$6:B24),"") -> 19 | B24: Apie ką galvoja vyrai: pratęsimas | C24: О чём говорят мужчины. Продолжение | D24: RU | E24: 13363.48 | F24: 2221 | G24: 4 | H24: 43189 | I24: ACME Film
A25: =IF(B25<>"",ROWS($B$6:B25),"") -> 20 | B25: Nepažįstamieji: nakties grobis | C25: The Strangers: Prey at Night | D25: US | E25: 13359.33 | F25: 2405 | G25: 5 | H25: 43189 | I25: NCG Distribution
A26: =IF(B26<>"",ROWS($B$6:B26),"") -> 21 | B26: Jūsų Vincentas | C26: Loving Vincent | D26: UK, PL | E26: 13227.55 | F26: 2907 | G26: 7 | H26: 43189 | I26: Europos kinas
A27: =IF(B27<>"",ROWS($B$6:B27),"") -> 22 | B27: Rūta | C27: Rūta | D27: LT | E27: 12955 | F27: 2537 | G27: 5 | H27: 43161 | I27: Vabalo filmai
A28: =IF(B28<>"",ROWS($B$6:B28),"") -> 23 | B28: Titanas | C28: The Titan | D28: US | E28: 12697 | F28: 2558 | G28: 12 | H28: 43203 | I28: Garsų pasaulio įrašai
A29: =IF(B29<>"",ROWS($B$6:B29),"") -> 24 | B29: Tavęs niekada čia nebuvo | C29: You Were Never Really Here | D29: US, UK | E29: 11585 | F29: 2495 | G29: 11 | H29: 43210 | I29: A-one films
A30: =IF(B30<>"",ROWS($B$6:B30),"") -> 25 | B30: Burbuliai. Dežavu | C30: Smeshariki. Dezhavyu | D30: RU | E30: 10450 | F30: 2407 | G30: 15 | H30: 43217 | I30: Garsų pasaulio įrašai
A31: =IF(B31<>"",ROWS($B$6:B31),"") -> 26 | B31: 100 metų kartu | C31: 100 metų kartu | D31: LT | E31: 9935.8 | F31: 2304 | G31: 10 | H31: 43210 | I31: 100 metų kartu
A32: =IF(B32<>"",ROWS($B$6:B32),"") -> 27 | B32: Svajonių apps‘as | C32: Status update | D32: US, CA, CH | E32: 9466 | F32: 1782 | G32: 11 | H32: 43189 | I32: Best Film
... A85: =IF(B85<>"",ROWS($B$6:B85),"") -> 80 | B85: Kitos merginos | C85: Toiset Tytot | D85: FI | E85: 2.12 | F85: 1 | G85: 1 | H85: 42636 | I85: KC Garsas
E86: =SUBTOTAL(109,Table3_Balandis[Pajamos]) -> 1370429.1 | F86: =SUBTOTAL(109,Table3_Balandis[Žiūrovų skaičius]) -> 267294

Sheet Gegužė
A1: ='2018'!A1 -> 2018
A2: ='2018'!A2 -> Lietuvos kino teatruose rodytų filmų TOP
A3: Gegužė
A5: Eil. Nr. | B5: Filmo pavadinimas | C5: Filmo pavadinimas originalo kalba | D5: Kilmės šalis | E5: Pajamos | F5: Žiūrovų skaičius | G5: Kopijų skaičius | H5: Premjeros data | I5: Platintojas
A6: =IF(B6<>"",ROWS($B$6:B6),"") -> 1 | B6: Deadpool 2 | C6: Deadpool 2 | D6: US | E6: 260528.02 | F6: 45304 | G6: 17 | H6: 43238 | I6: Theatrical Film Distribution / 20th Century Fox
A7: =IF(B7<>"",ROWS($B$6:B7),"") -> 2 | B7: Keršytojai. Begalybės karas | C7: Avengers: Infinity War | D7: US | E7: 180624.8 | F7: 30815 | G7: 27 | H7: 43217 | I7: Theatrical Film Distribution / WDSMPI
A8: =IF(B8<>"",ROWS($B$6:B8),"") -> 3 | B8: Aš graži | C8: I feel pretty | D8: US | E8: 51473 | F8: 11643 | G8: 13 | H8: 43231 | I8: Garsų pasaulio įrašai
A9: =IF(B9<>"",ROWS($B$6:B9),"") -> 4 | B9: Sobiboras | C9: Sobibor | D9: RU | E9: 32790.42 | F9: 6149 | G9: 9 | H9: 43224 | I9: ACME Film
A10: =IF(B10<>"",ROWS($B$6:B10),"") -> 5 | B10: Solo. Žvaigždžių karų istorija | C10: Solo: A Star Wars Story | D10: US | E10: 31249.43 | F10: 5599 | G10: 29 | H10: 43245 | I10: Theatrical Film Distribution / WDSMPI
A11: =IF(B11<>"",ROWS($B$6:B11),"") -> 6 | B11: Teris ir užburta Aušros karalystė | C11: Here comes the Grump | D11: UK, MX | E11: 29051 | F11: 6950 | G11: 16 | H11: 43238 | I11: ACME Film
A12: =IF(B12<>"",ROWS($B$6:B12),"") -> 7 | B12: Sengirė | C12: Sengirė | D12: LT | E12: 23378 | F12: 5252 | G12: 8 | H12: 43189 | I12: VšĮ Sengirė
A13: =IF(B13<>"",ROWS($B$6:B13),"") -> 8 | B13: Tiesa arba drąsa | C13: Truth or Dare | D13: US | E13: 21484.44 | F13: 3976 | G13: 7 | H13: 43210 | I13: NCG Distribution / Universal Pictures International
A14: =IF(B14<>"",ROWS($B$6:B14),"") -> 9 | B14: Triušis Piteris | C14: Peter Rabbit | D14: US, AU | E14: 20405.68 | F14: 4515 | G14: 9 | H14: 43182 | I14: ACME Film / SONY
A15: =IF(B15<>"",ROWS($B$6:B15),"") -> 10 | B15: Burbuliai. Dežavu | C15: Smeshariki. Dezhavyu | D15: RU | E15: 20153 | F15: 5433 | G15: 15 | H15: 43217 | I15: Garsų pasaulio įrašai
A16: =IF(B16<>"",ROWS($B$6:B16),"") -> 11 | B16: Džimas Saga ir mašinistas Lukas | C16: Jim Knopf und Lukas der Lokomotivführer | D16: DE | E16: 19027 | F16: 4855 | G16: 15 | H16: 43231 | I16: Garsų pasaulio įrašai
A17: =IF(B17<>"",ROWS($B$6:B17),"") -> 12 | B17: Lino: nuotykiai katino kailyje | C17: Lino | D17: BR | E17: 17806.57 | F17: 4117 | G17: 11 | H17: 43203 | I17: ACME Film
... A41: =IF(B41<>"",ROWS($B$6:B41),"") -> 36 | B41: Iš niekur | C41: Aus dem Nichts | D41: DE | E41: 1479 | F41: 289 | G41: 3 | H41: 43154 | I41: A-one films
A42: =IF(B42<>"",ROWS($B$6:B42),"") -> 37 | B42: Kol dar neatėjo audra | C42: Adrift | D42: US | E42: 1476.7 | F42: 297 | G42: 6 | H42: Pre-view | I42: ACME Film
A43: =IF(B43<>"",ROWS($B$6:B43),"") -> 38 | B43: Nuostabieji Lūzeriai. Kita planeta | C43: Nuostabieji Lūzeriai. Kita planeta | D43: LT | E43: 1302 | F43: 413 | G43: 4 | H43: 43140 | I43: Studija NOMINUM
A44: =IF(B44<>"",ROWS($B$6:B44),"") -> 39 | B44: Jūsų Vincentas | C44: Loving Vincent | D44: UK, PL | E44: 1059.5 | F44: 319 | G44: 7 | H44: 43189 | I44: Europos kinas
A45: =IF(B45<>"",ROWS($B$6:B45),"") -> 40 | B45: Tamsta Varlius | C45: Meester Kikker | D45: NL | E45: 870 | F45: 333 | G45: 1 | H45: 42654 | I45: Skalvijos kino centras
A46: =IF(B46<>"",ROWS($B$6:B46),"") -> 41 | B46: Tarp keturių sienų | C46: Insyriated | D46: BE, FR, LB | E46: 669 | F46: 152 | G46: 1 | H46: 43112 | I46: A-one films
A47: =IF(B47<>"",ROWS($B$6:B47),"") -> 42 | B47: Arčiau debesų | C47: Cloudboy | D47: BG, SE, NL, NO | E47: 644 | F47: 279 | G47: 1 | H47: 42988 | I47: Skalvijos kino centras
A48: =IF(B48<>"",ROWS($B$6:B48),"") -> 43 | B48: Vasara, 1993 - ieji | C48: Estiu 1993 | E48: 633 | F48: 194 | G48: 2 | H48: 43224 | I48: Kino Aljansas
A49: =IF(B49<>"",ROWS($B$6:B49),"") -> 44 | B49: Eva | C49: Eva | D49: FR | E49: 567.77 | F49: 131 | G49: 4 | H49: 43203 | I49: Best Film
A50: =IF(B50<>"",ROWS($B$6:B50),"") -> 45 | B50: Šventa vieta | C50: The Place | D50: IT | E50: 498 | F50: 114 | G50: 3 | H50: 43189 | I50: Europos kinas
A51: =IF(B51<>"",ROWS($B$6:B51),"") -> 46 | B51: Kaimynė šnipė | C51: Next Door Spy | D51: DK | E51: 444 | F51: 195 | G51: 1 | H51: 43015 | I51: Skalvijos kino centras
A52: =IF(B52<>"",ROWS($B$6:B52),"") -> 47 | B52: Floridos projektas | C52: The Florida Project | D52: US | E52: 427 | F52: 101 | G52: 8 | H52: 43196 | I52: A-one films
A53: =IF(B53<>"",ROWS($B$6:B53),"") -> 48 | B53: Nono, berniukas Zigzagiukas | C53: Nono, het Zigzag Kind | D53: NL | E53: 308 | F53: 154 | G53: 1 | H53: 41895 | I53: Skalvijos kino centras
A54: =IF(B54<>"",ROWS($B$6:B54),"") -> 49 | B54: Terapija | C54: The Work | D54: US | E54: 284 | F54: 70 | G54: 3 | H54: 43189 | I54: Europos kinas
A55: =IF(B55<>"",ROWS($B$6:B55),"") -> 50 | B55: Raudonasis Žvirblis | C55: Red Sparrow | D55: US | E55: 218.9 | F55: 41 | G55: 1 | H55: 43161 | I55: Theatrical Film Distribution / 20th Century Fox
A56: =IF(B56<>"",ROWS($B$6:B56),"") -> 51 | B56: Gerumo stebuklas | C56: Wonder | D56: US | E56: 215.6 | F56: 83 | G56: 2 | H56: 43056 | I56: ACME Film
A57: =IF(B57<>"",ROWS($B$6:B57),"") -> 52 | B57: Karo žaidimai | C57: Krig | D57: SE, DE | E57: 209.5 | F57: 89 | G57: 1 | H57: 42475 | I57: KC Garsas
A58: =IF(B58<>"",ROWS($B$6:B58),"") -> 53 | B58: Trys stendai prie Ebingo, Misūryje | C58: Three Billboards Outside Ebbing, Missouri | D58: US | E58: 185.5 | F58: 53 | G58: 1 | H58: 43133 | I58: Theatrical Film Distribution / 20th Century Fox
A59: =IF(B59<>"",ROWS($B$6:B59),"") -> 54 | B59: Lady Bird | C59: Lady Bird | D59: US | E59: 181.5 | F59: 79 | G59: 1 | H59: 43161 | I59: NCG Distribution / Universal Pictures International
A60: =IF(B60<>"",ROWS($B$6:B60),"") -> 55 | B60: Veidai Kaimai | C60: Visages Villages | D60: FR | E60: 170 | F60: 85 | G60: 1 | H60: 43070 | I60: A-one films
A61: =IF(B61<>"",ROWS($B$6:B61),"") -> 56 | B61: Nyndorfo karalienė | C61: Königin von Niendorf | D61: DE | E61: 168 | F61: 84 | G61: 1 | H61: 43216 | I61: KC Garsas
A62: =IF(B62<>"",ROWS($B$6:B62),"") -> 57 | B62: Plojus | C62: Ploey - You Never Fly Alone | D62: BE, IS | E62: 166.6 | F62: 54 | G62: 1 | H62: Pre-view | I62: UAB Travolta
A63: =IF(B63<>"",ROWS($B$6:B63),"") -> 58 | B63: Manasis Godard'as | C63: Redoubtable | D63: FR | E63: 164 | F63: 51 | G63: 2 | H63: 43196 | I63: Europos kinas
A64: =IF(B64<>"",ROWS($B$6:B64),"") -> 59 | B64: Maria Callas: savais žodžiais | C64: Maria by Callas | D64: FR | E64: 145 | F64: 43 | G64: 2 | H64: 43189 | I64: Europos kinas
A65: =IF(B65<>"",ROWS($B$6:B65),"") -> 60 | B65: Kandelarija | C65: Candelaria | D65: AR, CO, CU, NO, DE | E65: 143 | F65: 40 | G65: 1 | H65: 43189 | I65: Europos kinas
A66: =IF(B66<>"",ROWS($B$6:B66),"") -> 61 | B66: Pakeliui į mokyklą | C66: Sur le Chemin de lʾécole | D66: FR, CN, ZA, BR, CO, | E66: 135 | F66: 54 | G66: 1 | H66: 42030 | I66: Skalvijos kino centras
A67: =IF(B67<>"",ROWS($B$6:B67),"") -> 62 | B67: Fantastiška moteris | C67: Una mujer fantastica | D67: CL, DE, ES | E67: 135 | F67: 30 | G67: 2 | H67: 43147 | I67: Best Film
A68: =IF(B68<>"",ROWS($B$6:B68),"") -> 63 | B68: Titanas | C68: The Titan | D68: US | E68: 125 | F68: 33 | G68: 1 | H68: 43203 | I68: Garsų pasaulio įrašai
A69: =IF(B69<>"",ROWS($B$6:B69),"") -> 64 | B69: Mes dešimtmečiai (dokumentinių filmų programa) | C69: Mes dešimtmečiai (dokumentinių filmų programa) | D69: TBA | E69: 111 | F69: 37 | G69: 1 | H69: 42637 | I69: Skalvijos kino centras
A70: =IF(B70<>"",ROWS($B$6:B70),"") -> 65 | B70: Nemeilė | C70: Nelyubov | D70: RU | E70: 111 | F70: 22 | G70: 1 | H70: 43126 | I70: Kino Aljansas
A71: =IF(B71<>"",ROWS($B$6:B71),"") -> 66 | B71: Ekskursantė | C71: Ekskursantė | D71: LT | E71: 104 | F71: 32 | G71: 1 | H71: 41544 | I71: Cinemark
A72: =IF(B72<>"",ROWS($B$6:B72),"") -> 67 | B72: Lumière! | C72: Lumière! | D72: FR | E72: 101 | F72: 31 | G72: 1 | H72: 43196 | I72: Europos kinas
A73: =IF(B73<>"",ROWS($B$6:B73),"") -> 68 | B73: Keliaujantys paukščiai | C73: Les oiseaux de passage | D73: BE, FR | E73: 100 | F73: 50 | G73: 1 | H73: 42301 | I73: Skalvijos kino centras
A74: =IF(B74<>"",ROWS($B$6:B74),"") -> 69 | B74: Silvana | C74: Silvana - Väck mig när ni vaknat | D74: SE | E74: 97.5 | F74: 27 | G74: 2 | H74: 43189 | I74: Europos kinas
... A83: =IF(B83<>"",ROWS($B$6:B83),"") -> 78 | B83: Sūnaus globa | C83: Jusqu'a la garde | D83: FR | E83: 22 | F83: 6 | G83: 1 | H83: 43189 | I83: Europos kinas
E84: =SUBTOTAL(109,Table3_Gegužė[Pajamos]) -> 898938.83 | F84: =SUBTOTAL(109,Table3_Gegužė[Žiūrovų skaičius]) -> 176162

Sheet Birželis
A1: ='2018'!A1 -> 2018
A2: ='2018'!A2 -> Lietuvos kino teatruose rodytų filmų TOP
A3: Birželis
A5: Eil. Nr. | B5: Filmo pavadinimas | C5: Filmo pavadinimas originalo kalba | D5: Kilmės šalis | E5: Pajamos | F5: Žiūrovų skaičius | G5: Kopijų skaičius | H5: Premjeros data | I5: Platintojas
A6: =IF(B6<>"",ROWS($B$6:B6),"") -> 1 | B6: Juros periodo pasaulis: Kritusi karalystė | C6: Jurassic World: Fallen Kingdom | D6: US | E6: 209377.83 | F6: 37863 | G6: 17 | H6: 43259 | I6: NCG Distribution / Universal Pictures International
A7: =IF(B7<>"",ROWS($B$6:B7),"") -> 2 | B7: Oušeno 8 | C7: Ocean's Eight | D7: US | E7: 127296.22 | F7: 24506 | G7: 17 | H7: 43266 | I7: ACME Film / WB
A8: =IF(B8<>"",ROWS($B$6:B8),"") -> 3 | B8: Deadpool 2 | C8: Deadpool 2 | D8: US | E8: 106270.69 | F8: 19686 | G8: 13 | H8: 43238 | I8: Theatrical Film Distribution / 20th Century Fox
A9: =IF(B9<>"",ROWS($B$6:B9),"") -> 4 | B9: Kol dar neatėjo audra | C9: Adrift | D9: US | E9: 82007.49 | F9: 15754 | G9: 15 | H9: 43252 | I9: ACME Film
A10: =IF(B10<>"",ROWS($B$6:B10),"") -> 5 | B10: Plojus | C10: Ploey - You Never Fly Alone | D10: BE, IS | E10: 81556 | F10: 17215 | G10: 16 | H10: 43252 | I10: UAB Travolta
A11: =IF(B11<>"",ROWS($B$6:B11),"") -> 6 | B11: Iš meilės Pablui | C11: Loving Pablo | D11: ES, BG | E11: 71511.15 | F11: 13889 | G11: 20 | H11: 43266 | I11: Theatrical Film Distribution
A12: =IF(B12<>"",ROWS($B$6:B12),"") -> 7 | B12: Dvi uodegos | C12: Два хвоста | D12: RU | E12: 61430 | F12: 14661 | G12: 15 | H12: 43259 | I12: Garsų pasaulio įrašai
A13: =IF(B13<>"",ROWS($B$6:B13),"") -> 8 | B13: Paveldėtas | C13: Hereditary | D13: US | E13: 45078.75 | F13: 7989 | G13: 18 | H13: 43280 | I13: Best Film
A14: =IF(B14<>"",ROWS($B$6:B14),"") -> 9 | B14: Naktinė pamaina | C14: Ночная смена | D14: RU | E14: 31312.27 | F14: 6280 | G14: 10 | H14: 43273 | I14: ACME Film
A15: =IF(B15<>"",ROWS($B$6:B15),"") -> 10 | B15: Solo. Žvaigždžių karų istorija | C15: Solo: A Star Wars Story | D15: US | E15: 27699.19 | F15: 5108 | G15: 26 | H15: 43245 | I15: Theatrical Film Distribution / WDSMPI
A16: =IF(B16<>"",ROWS($B$6:B16),"") -> 11 | B16: Kliedesiai | C16: Delirium | D16: US | E16: 27502.4 | F16: 5454 | G16: 15 | H16: 43252 | I16: Theatrical Film Distribution
A17: =IF(B17<>"",ROWS($B$6:B17),"") -> 12 | B17: Teris ir užburta Aušros karalystė | C17: Here comes the Grump | D17: UK, MX | E17: 26128.63 | F17: 6240 | G17: 13 | H17: 43238 | I17: ACME Film
... A90: =IF(B90<>"",ROWS($B$6:B90),"") -> 85 | B90: Įžeidimas | C90: L‘Insulte | D90: BE, US, CY, LB, FR | E90: 7 | F90: 2 | G90: 1 | H90: 43189 | I90: Europos kinas
E91: =SUBTOTAL(109,Table3_Birželis[Pajamos]) -> 1118541.5 | F91: =SUBTOTAL(109,Table3_Birželis[Žiūrovų skaičius]) -> 223818

Sheet Liepa
A1: ='2018'!A1 -> 2018
A2: ='2018'!A2 -> Lietuvos kino teatruose rodytų filmų TOP
A3: Liepa
A5: Eil. Nr. | B5: Filmo pavadinimas | C5: Filmo pavadinimas originalo kalba | D5: Kilmės šalis | E5: Pajamos | F5: Žiūrovų skaičius | G5: Kopijų skaičius | H5: Premjeros data | I5: Platintojas
A6: =IF(B6<>"",ROWS($B$6:B6),"") -> 1 | B6: Monstrų viešbutis 3: Atostogos | C6: Hotel Transylvania 3 | D6: US | E6: 456797.17 | F6: 94506 | G6: 17 | H6: 43294 | I6: ACME Film / SONY
A7: =IF(B7<>"",ROWS($B$6:B7),"") -> 2 | B7: Paveldėtas | C7: Hereditary | D7: US | E7: 101708.66 | F7: 18341 | G7: 18 | H7: 43280 | I7: Best Film
A8: =IF(B8<>"",ROWS($B$6:B8),"") -> 3 | B8: Mamma Mia! Štai ir mes | C8: Mamma Mia! Here We Go Again | D8: US | E8: 96335.24 | F8: 16746 | G8: 18 | H8: 43301 | I8: NCG Distribution / Universal Pictures International
A9: =IF(B9<>"",ROWS($B$6:B9),"") -> 4 | B9: Skruzdėliukas ir Vapsva | C9: Ant-Man and The Wasp | D9: US | E9: 78265.76 | F9: 13570 | G9: 25 | H9: 43287 | I9: Theatrical Film Distribution / WDSMPI
A10: =IF(B10<>"",ROWS($B$6:B10),"") -> 5 | B10: Dangoraižis | C10: Skyscraper | D10: US | E10: 77216.78 | F10: 12836 | G10: 15 | H10: 43294 | I10: NCG Distribution / Universal Pictures International
A11: =IF(B11<>"",ROWS($B$6:B11),"") -> 6 | B11: Slaptasis agentas Maksas | C11: Show Dogs | D11: US | E11: 71782.23 | F11: 16149 | G11: 14 | H11: 43280 | I11: ACME Film
A12: =IF(B12<>"",ROWS($B$6:B12),"") -> 7 | B12: Papuolei! | C12: Tag | D12: US | E12: 56212.9 | F12: 9936 | G12: 16 | H12: 43280 | I12: ACME Film / WB
A13: =IF(B13<>"",ROWS($B$6:B13),"") -> 8 | B13: Juros periodo pasaulis: Kritusi karalystė | C13: Jurassic World: Fallen Kingdom | D13: US | E13: 51600.59 | F13: 9034 | G13: 10 | H13: 43259 | I13: NCG Distribution / Universal Pictures International
A14: =IF(B14<>"",ROWS($B$6:B14),"") -> 9 | B14: Ekvalaizeris 2 | C14: Equalizer 2 | D14: US | E14: 49331.98 | F14: 8713 | G14: 12 | H14: 43301 | I14: ACME Film / SONY
A15: =IF(B15<>"",ROWS($B$6:B15),"") -> 10 | B15: Oušeno 8 | C15: Ocean's Eight | D15: US | E15: 43610.28 | F15: 7702 | G15: 12 | H15: 43266 | I15: ACME Film / WB
A16: =IF(B16<>"",ROWS($B$6:B16),"") -> 11 | B16: Sicario 2: Kartelių karai | C16: Sicario: Day Of The Soldado | D16: US | E16: 31366.81 | F16: 5694 | G16: 14 | H16: 43280 | I16: ACME Film
A17: =IF(B17<>"",ROWS($B$6:B17),"") -> 12 | B17: Pirmasis išvalymas | C17: The first Purge | D17: US | E17: 25971.25 | F17: 4708 | G17: 13 | H17: 43308 | I17: NCG Distribution / Universal Pictures International
... A78: =IF(B78<>"",ROWS($B$6:B78),"") -> 73 | B78: Ilgesys | C78: Ga'agua | D78: IL | E78: 9.5 | F78: 5 | G78: 1 | H78: 43189 | I78: Europos kinas
E79: =SUBTOTAL(109,Table3_Liepa[Pajamos]) -> 1379716.7 | F79: =SUBTOTAL(109,Table3_Liepa[Žiūrovų skaičius]) -> 269827

Sheet Rugpjūtis
A1: ='2018'!A1 -> 2018
A2: ='2018'!A2 -> Lietuvos kino teatruose rodytų filmų TOP
A3: Rugpjūtis
A5: Eil. Nr. | B5: Filmo pavadinimas | C5: Filmo pavadinimas originalo kalba | D5: Kilmės šalis | E5: Pajamos | F5: Žiūrovų skaičius | G5: Kopijų skaičius | H5: Premjeros data | I5: Platintojas
A6: =IF(B6<>"",ROWS($B$6:B6),"") -> 1 | B6: Moterys meluoja geriau. Robertėlis | C6: Moterys meluoja geriau. Robertėlis | D6: LT | E6: 537547 | F6: 97329 | G6: 17 | H6: 43315 | I6: Singing fish
A7: =IF(B7<>"",ROWS($B$6:B7),"") -> 2 | B7: Nerealieji 2 | C7: Incredibles 2 | D7: US | E7: 413953.3 | F7: 85612 | G7: 35 | H7: 43315 | I7: Theatrical Film Distribution / WDSMPI
A8: =IF(B8<>"",ROWS($B$6:B8),"") -> 3 | B8: Monstrų viešbutis 3: Atostogos | C8: Hotel Transylvania 3 | D8: US | E8: 139677.66 | F8: 30348 | G8: 12 | H8: 43294 | I8: ACME Film / SONY
A9: =IF(B9<>"",ROWS($B$6:B9),"") -> 4 | B9: Neįmanoma misija: atpildo diena | C9: Mission: Impossible - Fallout | D9: US | E9: 129199.29 | F9: 22176 | G9: 17 | H9: 43329 | I9: NCG Distribution / Universal Pictures International
A10: =IF(B10<>"",ROWS($B$6:B10),"") -> 5 | B10: Megalodonas: Grėsmė iš gelmių | C10: Meg | D10: US | E10: 107441.72 | F10: 18918 | G10: 13 | H10: 43336 | I10: ACME Film / WB
A11: =IF(B11<>"",ROWS($B$6:B11),"") -> 6 | B11: Mamma Mia! Štai ir mes | C11: Mamma Mia! Here We Go Again | D11: US | E11: 79009.93 | F11: 14009 | G11: 12 | H11: 43301 | I11: NCG Distribution / Universal Pictures International
A12: =IF(B12<>"",ROWS($B$6:B12),"") -> 7 | B12: Šnipas, kuris mane išdūrė | C12: Spy Who Dumped Me | D12: US | E12: 64261.58 | F12: 11637 | G12: 13 | H12: 43322 | I12: ACME Film
A13: =IF(B13<>"",ROWS($B$6:B13),"") -> 8 | B13: Slendermenas | C13: Slender Man | D13: US | E13: 49452.13 | F13: 9924 | G13: 13 | H13: 43336 | I13: ACME Film / SONY
A14: =IF(B14<>"",ROWS($B$6:B14),"") -> 9 | B14: Pirmasis išvalymas | C14: The first Purge | D14: US | E14: 49443.34 | F14: 8655 | G14: 8 | H14: 43308 | I14: NCG Distribution / Universal Pictures International
A15: =IF(B15<>"",ROWS($B$6:B15),"") -> 10 | B15: Tamsiausios galios | C15: Darkest Minds | D15: US | E15: 37601.63 | F15: 6775 | G15: 15 | H15: 43315 | I15: Theatrical Film Distribution / 20th Century Fox
A16: =IF(B16<>"",ROWS($B$6:B16),"") -> 11 | B16: Vartai į anapus | C16: Down a Dark Hall | D16: US | E16: 36780.18 | F16: 6872 | G16: 10 | H16: 43329 | I16: ACME Film
A17: =IF(B17<>"",ROWS($B$6:B17),"") -> 12 | B17: Ekvalaizeris 2 | C17: Equalizer 2 | D17: US | E17: 30923.56 | F17: 5211 | G17: 7 | H17: 43301 | I17: ACME Film / SONY
... A86: =IF(B86<>"",ROWS($B$6:B86),"") -> 81 | B86: Neįtikėtina Fakyro kelionė | C86: The Extraordinary Journey of the Fakir | D86: FR, US, IN | E86: 9 | F86: 5 | G86: 1 | H86: 43287 | I86: ACME Film
E87: =SUBTOTAL(109,Table3_Rugpjūtis[Pajamos]) -> 1979695.7 | F87: =SUBTOTAL(109,Table3_Rugpjūtis[Žiūrovų skaičius]) -> 383429

Sheet Rugsėjis
A1: ='2018'!A1 -> 2018
A2: ='2018'!A2 -> Lietuvos kino teatruose rodytų filmų TOP
A3: Rugsėjis
A5: Eil. Nr. | B5: Filmo pavadinimas | C5: Filmo pavadinimas originalo kalba | D5: Kilmės šalis | E5: Pajamos | F5: Žiūrovų skaičius | G5: Kopijų skaičius | H5: Premjeros data | I5: Platintojas
A6: =IF(B6<>"",ROWS($B$6:B6),"") -> 1 | B6: Vienuolė | C6: The Nun | D6: US | E6: 334203.79 | F6: 56345 | G6: 14 | H6: 43350 | I6: ACME Film / WB
A7: =IF(B7<>"",ROWS($B$6:B7),"") -> 2 | B7: Super Džonis smogia | C7: Johnny English Strikes Again | D7: US | E7: 155989.72 | F7: 26591 | G7: 18 | H7: 43364 | I7: NCG Distribution / Universal Pictures International
A8: =IF(B8<>"",ROWS($B$6:B8),"") -> 3 | B8: Alfa | C8: Solutrean (Alpha) | D8: US | E8: 72394.44 | F8: 13150 | G8: 15 | H8: 43343 | I8: ACME Film / SONY
A9: =IF(B9<>"",ROWS($B$6:B9),"") -> 4 | B9: Nerealieji 2 | C9: Incredibles 2 | D9: US | E9: 70529.47 | F9: 14531 | G9: 12 | H9: 43315 | I9: Theatrical Film Distribution / WDSMPI
A10: =IF(B10<>"",ROWS($B$6:B10),"") -> 5 | B10: Grobuonis. Patobulinimas | C10: The Predator | D10: US | E10: 63658.85 | F10: 10985 | G10: 16 | H10: 43357 | I10: Theatrical Film Distribution / 20th Century Fox
A11: =IF(B11<>"",ROWS($B$6:B11),"") -> 6 | B11: Nedidelė paslauga | C11: A Simple Favor | D11: US | E11: 62800.78 | F11: 11166 | G11: 16 | H11: 43364 | I11: ACME Film
A12: =IF(B12<>"",ROWS($B$6:B12),"") -> 7 | B12: Pliusas | C12: Pliusas | D12: LT | E12: 62698.86 | F12: 11802 | G12: 12 | H12: 43350 | I12: VšĮ Komiko teatras
A13: =IF(B13<>"",ROWS($B$6:B13),"") -> 8 | B13: Du ančiukai ir žąsinas | C13: Duck duck goose | D13: US | E13: 59488 | F13: 14180 | G13: 16 | H13: 43343 | I13: Garsų pasaulio įrašai
A14: =IF(B14<>"",ROWS($B$6:B14),"") -> 9 | B14: Moterys meluoja geriau. Robertėlis | C14: Moterys meluoja geriau. Robertėlis | D14: LT | E14: 58134.6 | F14: 10441 | G14: 8 | H14: 43315 | I14: Singing fish
A15: =IF(B15<>"",ROWS($B$6:B15),"") -> 10 | B15: Megalodonas: Grėsmė iš gelmių | C15: Meg | D15: US | E15: 54504.67 | F15: 8789 | G15: 11 | H15: 43336 | I15: ACME Film / WB
A16: =IF(B16<>"",ROWS($B$6:B16),"") -> 11 | B16: Princesė ir Drakonas | C16: Princess in Wonderland (Princess and the Dragon) | D16: RU | E16: 48091.16 | F16: 10823 | G16: 16 | H16: 43357 | I16: ACME Film
A17: =IF(B17<>"",ROWS($B$6:B17),"") -> 12 | B17: Pasakiškai turtingi | C17: Crazy Rich Asians | D17: US | E17: 44130.28 | F17: 7842 | G17: 12 | H17: 43343 | I17: ACME Film / WB
... A76: =IF(B76<>"",ROWS($B$6:B76),"") -> 71 | B76: Ankštumas | C76: Теснота | D76: RU | E76: 9 | F76: 3 | G76: 1 | H76: 43196 | I76: Europos kinas
E77: =SUBTOTAL(109,Table3_Rugsėjis[Pajamos]) -> 1485491.1 | F77: =SUBTOTAL(109,Table3_Rugsėjis[Žiūrovų skaičius]) -> 273832

Sheet Spalis
A1: ='2018'!A1 -> 2018
A2: ='2018'!A2 -> Lietuvos kino teatruose rodytų filmų TOP
A3: Spalis
A5: Eil. Nr. | B5: Filmo pavadinimas | C5: Filmo pavadinimas originalo kalba | D5: Kilmės šalis | E5: Pajamos | F5: Žiūrovų skaičius | G5: Kopijų skaičius | H5: Premjeros data | I5: Platintojas
A6: =IF(B6<>"",ROWS($B$6:B6),"") -> 1 | B6: Tarp pilkų debesų | C6: Ashes in the Snow | D6: LT, UK | E6: 1002054.7 | F6: 184904 | G6: 19 | H6: 43385 | I6: ACME Film
A7: =IF(B7<>"",ROWS($B$6:B7),"") -> 2 | B7: Taip gimė žvaigždė | C7: Star ir Born | D7: US | E7: 347050.86 | F7: 60874 | G7: 15 | H7: 43378 | I7: ACME Film / WB
A8: =IF(B8<>"",ROWS($B$6:B8),"") -> 3 | B8: Venomas | C8: Venom | D8: US, CN | E8: 292373.92 | F8: 48320 | G8: 15 | H8: 43378 | I8: ACME Film / SONY
A9: =IF(B9<>"",ROWS($B$6:B9),"") -> 4 | B9: Lietuviški svingeriai | C9: Lietuviški svingeriai | D9: LT | E9: 221979 | F9: 37883 | G9: 17 | H9: 43399 | I9: Vabalo filmai
A10: =IF(B10<>"",ROWS($B$6:B10),"") -> 5 | B10: Mažoji pėda | C10: Smallfoot | D10: US | E10: 165845.12 | F10: 36658 | G10: 16 | H10: 43392 | I10: ACME Film / WB
A11: =IF(B11<>"",ROWS($B$6:B11),"") -> 6 | B11: Super Džonis smogia | C11: Johnny English Strikes Again | D11: US | E11: 94622.7 | F11: 19056 | G11: 11 | H11: 43364 | I11: NCG Distribution / Universal Pictures International
A12: =IF(B12<>"",ROWS($B$6:B12),"") -> 7 | B12: Didysis kačių pabėgimas | C12: Cats | D12: CN | E12: 92536.91 | F12: 20552 | G12: 16 | H12: 43378 | I12: ACME Film
A13: =IF(B13<>"",ROWS($B$6:B13),"") -> 8 | B13: Pirmasis žmogus | C13: First Man | D13: US | E13: 60217.08 | F13: 10701 | G13: 17 | H13: 43392 | I13: NCG Distribution / Universal Pictures International
A14: =IF(B14<>"",ROWS($B$6:B14),"") -> 9 | B14: Helovinas | C14: Halloween | D14: US | E14: 42349.93 | F14: 7883 | G14: 17 | H14: 43399 | I14: NCG Distribution / Universal Pictures International
A15: =IF(B15<>"",ROWS($B$6:B15),"") -> 10 | B15: Princas Žavusis | C15: Charming | D15: US, CA | E15: 41064 | F15: 9077 | G15: 13 | H15: 43399 | I15: Garsų pasaulio įrašai
A16: =IF(B16<>"",ROWS($B$6:B16),"") -> 11 | B16: Nedidelė paslauga | C16: A Simple Favor | D16: US | E16: 30698.89 | F16: 6326 | G16: 10 | H16: 43364 | I16: ACME Film
A17: =IF(B17<>"",ROWS($B$6:B17),"") -> 12 | B17: Drugelis | C17: Papillon | D17: US, CZ, ES | E17: 29445.97 | F17: 5930 | G17: 17 | H17: 43371 | I17: Theatrical Film Distribution
... A71: =IF(B71<>"",ROWS($B$6:B71),"") -> 66 | B71: Iš meilės Pablui | C71: Loving Pablo | D71: ES, BG | E71: 12 | F71: 4 | G71: 1 | H71: 43266 | I71: Theatrical Film Distribution
E72: =SUBTOTAL(109,Table3_Spalis[Pajamos]) -> 2733513.7 | F72: =SUBTOTAL(109,Table3_Spalis[Žiūrovų skaičius]) -> 517614

Sheet Lapkritis
A1: ='2018'!A1 -> 2018
A2: ='2018'!A2 -> Lietuvos kino teatruose rodytų filmų TOP
A3: Lapkritis
A5: Eil. Nr. | B5: Filmo pavadinimas | C5: Filmo pavadinimas originalo kalba | D5: Kilmės šalis | E5: Pajamos | F5: Žiūrovų skaičius | G5: Kopijų skaičius | H5: Premjeros data | I5: Platintojas
A6: =IF(B6<>"",ROWS($B$6:B6),"") -> 1 | B6: Bohemijos rapsodija | C6: Bohemian Rhapsody | D6: UK. US | E6: 702804.68 | F6: 119068 | G6: 20 | H6: 43406 | I6: Theatrical Film Distribution / 20th Century Fox
A7: =IF(B7<>"",ROWS($B$6:B7),"") -> 2 | B7: Lietuviški svingeriai | C7: Lietuviški svingeriai | D7: LT | E7: 361282 | F7: 62422 | G7: 15 | H7: 43399 | I7: Vabalo filmai
A8: =IF(B8<>"",ROWS($B$6:B8),"") -> 3 | B8: Melagiai | C8: Melagiai | D8: LT | E8: 324041 | F8: 59175 | G8: 18 | H8: 43413 | I8: Film Jam
A9: =IF(B9<>"",ROWS($B$6:B9),"") -> 4 | B9: Tarp pilkų debesų | C9: Ashes in the Snow | D9: LT, UK | E9: 261783.99 | F9: 49634 | G9: 19 | H9: 43385 | I9: ACME Film
A10: =IF(B10<>"",ROWS($B$6:B10),"") -> 5 | B10: Fantastiniai gyvūnai: Grindelvaldo piktadarystės | C10: Fantastic Beasts: Crimes of Grindelwald | D10: UK, US | E10: 224279.65 | F10: 37303 | G10: 17 | H10: 43420 | I10: ACME Film / WB
A11: =IF(B11<>"",ROWS($B$6:B11),"") -> 6 | B11: Taip gimė žvaigždė | C11: Star ir Born | D11: US | E11: 176968.97 | F11: 29852 | G11: 11 | H11: 43378 | I11: ACME Film / WB
A12: =IF(B12<>"",ROWS($B$6:B12),"") -> 7 | B12: Mažoji pėda | C12: Smallfoot | D12: US | E12: 132306.49 | F12: 28370 | G12: 15 | H12: 43392 | I12: ACME Film / WB
A13: =IF(B13<>"",ROWS($B$6:B13),"") -> 8 | B13: Širdys | C13: Širdys | D13: LT | E13: 102041.36 | F13: 19313 | G13: 11 | H13: 43427 | I13: Dublis LT
A14: =IF(B14<>"",ROWS($B$6:B14),"") -> 9 | B14: Baltoji iltis | C14: White Fang | D14: FR, US | E14: 51408 | F14: 12006 | G14: 17 | H14: 43413 | I14: Garsų pasaulio įrašai
A15: =IF(B15<>"",ROWS($B$6:B15),"") -> 10 | B15: Spragtukas ir keturios karalystės | C15: The Nutcracker and the Four Realms | D15: US | E15: 48713.92 | F15: 9208 | G15: 22 | H15: 43406 | I15: Theatrical Film Distribution / WDSMPI
A16: =IF(B16<>"",ROWS($B$6:B16),"") -> 11 | B16: Drąsusis elniukas Eliotas | C16: Elliot The Littlest Reindeer | D16: CA | E16: 43503.86 | F16: 10074 | G16: 20 | H16: 43427 | I16: Theatrical Film Distribution
A17: =IF(B17<>"",ROWS($B$6:B17),"") -> 12 | B17: Princas Žavusis | C17: Charming | D17: US, CA | E17: 35830 | F17: 8425 | G17: 15 | H17: 43399 | I17: Garsų pasaulio įrašai
... A81: =IF(B81<>"",ROWS($B$6:B81),"") -> 76 | B81: Žmogus voras: Į naują visatą | C81: Spiderman into the Spiderverse | D81: US | E81: 0 | F81: 98 | G81: 1 | H81: 43448 | I81: ACME Film
E82: =SUBTOTAL(109,Table3_Lapkritis[Pajamos]) -> 2756552.5 | F82: =SUBTOTAL(109,Table3_Lapkritis[Žiūrovų skaičius]) -> 501518

Sheet Gruodis
A1: ='2018'!A1 -> 2018
A2: ='2018'!A2 -> Lietuvos kino teatruose rodytų filmų TOP
A3: Gruodis
A5: Eil. Nr. | B5: Filmo pavadinimas | C5: Filmo pavadinimas originalo kalba | D5: Kilmės šalis | E5: Pajamos | F5: Žiūrovų skaičius | G5: Kopijų skaičius | H5: Premjeros data | I5: Platintojas
A6: =IF(B6<>"",ROWS($B$6:B6),"") -> 1 | B6: Grinčas | C6: The Grinch | D6: US | E6: 626398.01 | F6: 126522 | G6: 19 | H6: 43434 | I6: NCG Distribution / Universal Pictures International
A7: =IF(B7<>"",ROWS($B$6:B7),"") -> 2 | B7: Tarp mūsų, mergaičių | C7: Tarp mūsų, mergaičių | D7: LT | E7: 279880 | F7: 47032 | G7: 14 | H7: 43462 | I7: Vabalo filmai
A8: =IF(B8<>"",ROWS($B$6:B8),"") -> 3 | B8: Bohemijos rapsodija | C8: Bohemian Rhapsody | D8: UK, US | E8: 229270.74 | F8: 38467 | G8: 20 | H8: 43406 | I8: Theatrical Film Distribution / 20th Century Fox
A9: =IF(B9<>"",ROWS($B$6:B9),"") -> 4 | B9: Akvamenas | C9: Aquaman | D9: US, AU | E9: 157795.87 | F9: 25206 | G9: 14 | H9: 43455 | I9: ACME Film / WB
A10: =IF(B10<>"",ROWS($B$6:B10),"") -> 5 | B10: Širdys | C10: Širdys | D10: LT | E10: 139663.31 | F10: 28527 | G10: 11 | H10: 43427 | I10: Dublis LT
A11: =IF(B11<>"",ROWS($B$6:B11),"") -> 6 | B11: Hanos Greis Egzorcizmas | C11: Possession of Hannah Grace | D11: US | E11: 103223.67 | F11: 17413 | G11: 13 | H11: 43441 | I11: ACME Film / SONY
A12: =IF(B12<>"",ROWS($B$6:B12),"") -> 7 | B12: Mirtingos mašinos | C12: Mortal Engines | D12: US, NZ | E12: 92434.62 | F12: 15170 | G12: 16 | H12: 43441 | I12: NCG Distribution / Universal Pictures International
A13: =IF(B13<>"",ROWS($B$6:B13),"") -> 8 | B13: Melagiai | C13: Melagiai | D13: LT | E13: 89559 | F13: 15954 | G13: 16 | H13: 43413 | I13: Film Jam
A14: =IF(B14<>"",ROWS($B$6:B14),"") -> 9 | B14: Žmogus voras: Į naują visatą | C14: Spiderman into the Spiderverse | D14: US | E14: 88531.74 | F14: 17719 | G14: 14 | H14: 43448 | I14: ACME Film / SONY
A15: =IF(B15<>"",ROWS($B$6:B15),"") -> 10 | B15: Kamanė | C15: Bumblebee | D15: US | E15: 86712.54 | F15: 14143 | G15: 12 | H15: 43455 | I15: NCG Distribution / Paramount Pictures
A16: =IF(B16<>"",ROWS($B$6:B16),"") -> 11 | B16: Eglutės. Finalas | C16: Ёлки Последние | D16: RU | E16: 65115 | F16: 10869 | G16: 9 | H16: 43462 | I16: Garsų pasaulio įrašai
A17: =IF(B17<>"",ROWS($B$6:B17),"") -> 12 | B17: Lietuviški svingeriai | C17: Lietuviški svingeriai | D17: LT | E17: 62650 | F17: 11638 | G17: 12 | H17: 43399 | I17: Vabalo filmai
... A24: =IF(B24<>"",ROWS($B$6:B24),"") -> 19 | B24: Taip gimė žvaigždė | C24: Star ir Born | D24: US | E24: 29326.29 | F24: 5298 | G24: 9 | H24: 43378 | I24: ACME Film / WB
A25: =IF(B25<>"",ROWS($B$6:B25),"") -> 20 | B25: Sukeisti Kalėdų seneliai | C25: Santa Swap | E25: 28993.43 | F25: 6296 | G25: 12 | H25: 43455 | I25: Travolta
A26: =IF(B26<>"",ROWS($B$6:B26),"") -> 21 | B26: Mulai | C26: Mulai | D26: LT | E26: 26811.6 | F26: 4693 | G26: 8 | H26: 43434 | I26: TV Manija
A27: =IF(B27<>"",ROWS($B$6:B27),"") -> 22 | B27: Merė Popins grįžta | C27: Mary Poppins Returns | D27: US | E27: 26115.8 | F27: 5357 | G27: 19 | H27: 43462 | I27: Theatrical Film Distribution / WDSMPI
A28: =IF(B28<>"",ROWS($B$6:B28),"") -> 23 | B28: Šaltasis karas | C28: Zimna wojna | D28: PL | E28: 22342 | F28: 4458 | G28: 11 | H28: 43434 | I28: Garsų pasaulio įrašai
A29: =IF(B29<>"",ROWS($B$6:B29),"") -> 24 | B29: Namas, kurį pastatė Džekas | C29: The House that Jack built | D29: DK, FR, DE | E29: 19721 | F29: 3737 | G29: 13 | H29: 43434 | I29: Estinfilm
A30: =IF(B30<>"",ROWS($B$6:B30),"") -> 25 | B30: Koletė | C30: Colette | D30: UK, US | E30: 14502.91 | F30: 2853 | G30: 11 | H30: 43427 | I30: ACME Film
A31: =IF(B31<>"",ROWS($B$6:B31),"") -> 26 | B31: Šerlokas Holmsas ir darktaras Vatsonas | C31: Holmes&Watson | D31: US | E31: 14448.81 | F31: 2393 | G31: 13 | H31: 43462 | I31: ACME Film / SONY
A32: =IF(B32<>"",ROWS($B$6:B32),"") -> 27 | B32: Broliai Sistersai | C32: Sisters Brothers | D32: FR, ES, US, BE, RO | E32: 13307.93 | F32: 2472 | G32: 19 | H32: 43448 | I32: Theatrical Film Distribution
A33: =IF(B33<>"",ROWS($B$6:B33),"") -> 28 | B33: Suspirija | C33: Suspiria | D33: IT, US | E33: 11292 | F33: 2267 | G33: 12 | H33: 43448 | I33: VLG Film
A34: =IF(B34<>"",ROWS($B$6:B34),"") -> 29 | B34: Tabaluga | C34: Tabaluga | D34: DE | E34: 8739 | F34: 2128 | G34: 14 | H34: 43441 | I34: Garsų pasaulio įrašai
A35: =IF(B35<>"",ROWS($B$6:B35),"") -> 30 | B35: Belvilio policininkas | C35: Belleville Cop | D35: FR | E35: 8531.05 | F35: 1473 | G35: 9 | H35: 43441 | I35: ACME Film
A36: =IF(B36<>"",ROWS($B$6:B36),"") -> 31 | B36: Krautuvų valsas | C36: In the Aisles | D36: DE | E36: 8489.1 | F36: 1837 | G36: 10 | H36: 43455 | I36: A-one Films
A37: =IF(B37<>"",ROWS($B$6:B37),"") -> 32 | B37: Laimingasis Ladzaras | C37: Lazzaro felice | D37: IT, CH, FR, DE | E37: 7888.7 | F37: 1674 | G37: 10 | H37: 43441 | I37: A-one Films
... A89: =IF(B89<>"",ROWS($B$6:B89),"") -> 84 | B89: Išdykėlis Patrikas | C89: Patrick | D89: UK | E89: 19 | F89: 8 | G89: 1 | H89: 43357 | I89: Theatrical Film Distribution
E90: =SUBTOTAL(109,Table3_Gruodis[Pajamos]) -> 2587608.7 | F90: =SUBTOTAL(109,Table3_Gruodis[Žiūrovų skaičius]) -> 483654
